BEGIN:VCALENDAR
VERSION:2.0
PRODID:-//ÉGLISE NOTRE DAME DE LAEKEN - ECPv6.15.17.1//NONSGML v1.0//EN
CALSCALE:GREGORIAN
METHOD:PUBLISH
X-WR-CALNAME:ÉGLISE NOTRE DAME DE LAEKEN
X-ORIGINAL-URL:https://notredamedelaeken.be
X-WR-CALDESC:Évènements pour ÉGLISE NOTRE DAME DE LAEKEN
REFRESH-INTERVAL;VALUE=DURATION:PT1H
X-Robots-Tag:noindex
X-PUBLISHED-TTL:PT1H
BEGIN:VTIMEZONE
TZID:Europe/Brussels
BEGIN:DAYLIGHT
TZOFFSETFROM:+0100
TZOFFSETTO:+0200
TZNAME:CEST
DTSTART:20230326T010000
END:DAYLIGHT
BEGIN:STANDARD
TZOFFSETFROM:+0200
TZOFFSETTO:+0100
TZNAME:CET
DTSTART:20231029T010000
END:STANDARD
BEGIN:DAYLIGHT
TZOFFSETFROM:+0100
TZOFFSETTO:+0200
TZNAME:CEST
DTSTART:20240331T010000
END:DAYLIGHT
BEGIN:STANDARD
TZOFFSETFROM:+0200
TZOFFSETTO:+0100
TZNAME:CET
DTSTART:20241027T010000
END:STANDARD
BEGIN:DAYLIGHT
TZOFFSETFROM:+0100
TZOFFSETTO:+0200
TZNAME:CEST
DTSTART:20250330T010000
END:DAYLIGHT
BEGIN:STANDARD
TZOFFSETFROM:+0200
TZOFFSETTO:+0100
TZNAME:CET
DTSTART:20251026T010000
END:STANDARD
END:VTIMEZONE
BEGIN:VEVENT
DTSTART;TZID=Europe/Brussels:20240220T123000
DTEND;TZID=Europe/Brussels:20240220T140000
DTSTAMP:20260420T054950
CREATED:20240217T071846Z
LAST-MODIFIED:20240217T182038Z
UID:4533-1708432200-1708437600@notredamedelaeken.be
SUMMARY:La Crypte Royale de Laeken sera ouverte le mardi 20 février 2024 à partir de 12h30 jusqu'à 14h
DESCRIPTION:La Crypte Royale sera accessible au public en visite libre le mardi 20 février 2024 à partir de la fin de l’Eucharistie vers 12h30 jusqu’à 14h00 dans notre église Notre-Dame de Laeken. \nBienvenue à tous !  \n\n* Vous trouverez les horaires d’ouverture de la Crypte Royale pour toute l’année 2024 ici :  Horaire Crypte Royale \nL’accès\n  \nPhoto : La Monarchie belge \nhttps://www.monarchie.be\n* Vous trouverez les horaires pour toute l’année 2023 ici Horaire Crypte Royale \n  \n 
URL:https://notredamedelaeken.be/evenement/la-crypte-royale-de-laeken-sera-ouverte-le-mardi-20-fevrier-2024-a-partir-de-12h30-jusqua-14h/
LOCATION:Église Notre Dame de Laeken\, Parvis Notre-Dame\, Région de Bruxelles-Capitale\, Belgique\, 1020\, Belgique
CATEGORIES:Crypte Royale
ATTACH;FMTTYPE=image/jpeg:https://notredamedelaeken.be/wp-content/uploads/2022/06/3CA6F0CE-C80E-429E-8FD1-C8DBE56EE365-scaled.jpeg
END:VEVENT
END:VCALENDAR