BEGIN:VCALENDAR
VERSION:2.0
PRODID:-//ÉGLISE NOTRE DAME DE LAEKEN - ECPv6.15.17.1//NONSGML v1.0//EN
CALSCALE:GREGORIAN
METHOD:PUBLISH
X-ORIGINAL-URL:https://notredamedelaeken.be
X-WR-CALDESC:Évènements pour ÉGLISE NOTRE DAME DE LAEKEN
REFRESH-INTERVAL;VALUE=DURATION:PT1H
X-Robots-Tag:noindex
X-PUBLISHED-TTL:PT1H
BEGIN:VTIMEZONE
TZID:Europe/Brussels
BEGIN:DAYLIGHT
TZOFFSETFROM:+0100
TZOFFSETTO:+0200
TZNAME:CEST
DTSTART:20240331T010000
END:DAYLIGHT
BEGIN:STANDARD
TZOFFSETFROM:+0200
TZOFFSETTO:+0100
TZNAME:CET
DTSTART:20241027T010000
END:STANDARD
BEGIN:DAYLIGHT
TZOFFSETFROM:+0100
TZOFFSETTO:+0200
TZNAME:CEST
DTSTART:20250330T010000
END:DAYLIGHT
BEGIN:STANDARD
TZOFFSETFROM:+0200
TZOFFSETTO:+0100
TZNAME:CET
DTSTART:20251026T010000
END:STANDARD
BEGIN:DAYLIGHT
TZOFFSETFROM:+0100
TZOFFSETTO:+0200
TZNAME:CEST
DTSTART:20260329T010000
END:DAYLIGHT
BEGIN:STANDARD
TZOFFSETFROM:+0200
TZOFFSETTO:+0100
TZNAME:CET
DTSTART:20261025T010000
END:STANDARD
END:VTIMEZONE
BEGIN:VEVENT
DTSTART;TZID=Europe/Brussels:20250801T173000
DTEND;TZID=Europe/Brussels:20250801T180000
DTSTAMP:20260421T210221
CREATED:20250630T192943Z
LAST-MODIFIED:20250630T192943Z
UID:6138-1754069400-1754071200@notredamedelaeken.be
SUMMARY:Messe en semaine
DESCRIPTION:
URL:https://notredamedelaeken.be/evenement/messe-en-semaine-195/
LOCATION:Église Notre Dame de Laeken\, Parvis Notre-Dame\, Région de Bruxelles-Capitale\, Belgique\, 1020\, Belgique
CATEGORIES:Messe de semaine
ATTACH;FMTTYPE=image/jpeg:https://notredamedelaeken.be/wp-content/uploads/2021/10/Notre-Dame-de-Laeken-eglise-paroissiale-a-Bruxelles-Belgique-scaled.jpg
ORGANIZER;CN="Paroisse Notre Dame de Laeken":MAILTO:secretariat.laeken@ndlaeken-olvlaken.be
END:VEVENT
BEGIN:VEVENT
DTSTART;TZID=Europe/Brussels:20250805T173000
DTEND;TZID=Europe/Brussels:20250805T180000
DTSTAMP:20260421T210221
CREATED:20250711T123804Z
LAST-MODIFIED:20250711T123804Z
UID:6210-1754415000-1754416800@notredamedelaeken.be
SUMMARY:Messe en semaine
DESCRIPTION:
URL:https://notredamedelaeken.be/evenement/messe-en-semaine-196/
LOCATION:Église Notre Dame de Laeken\, Parvis Notre-Dame\, Région de Bruxelles-Capitale\, Belgique\, 1020\, Belgique
CATEGORIES:Messe de semaine
ATTACH;FMTTYPE=image/jpeg:https://notredamedelaeken.be/wp-content/uploads/2021/10/Notre-Dame-de-Laeken-eglise-paroissiale-a-Bruxelles-Belgique-scaled.jpg
ORGANIZER;CN="Paroisse Notre Dame de Laeken":MAILTO:secretariat.laeken@ndlaeken-olvlaken.be
END:VEVENT
BEGIN:VEVENT
DTSTART;TZID=Europe/Brussels:20250806T173000
DTEND;TZID=Europe/Brussels:20250806T180000
DTSTAMP:20260421T210221
CREATED:20250711T123832Z
LAST-MODIFIED:20250711T123832Z
UID:6212-1754501400-1754503200@notredamedelaeken.be
SUMMARY:Messe en semaine
DESCRIPTION:
URL:https://notredamedelaeken.be/evenement/messe-en-semaine-197/
LOCATION:Église Notre Dame de Laeken\, Parvis Notre-Dame\, Région de Bruxelles-Capitale\, Belgique\, 1020\, Belgique
CATEGORIES:Messe de semaine
ATTACH;FMTTYPE=image/jpeg:https://notredamedelaeken.be/wp-content/uploads/2021/10/Notre-Dame-de-Laeken-eglise-paroissiale-a-Bruxelles-Belgique-scaled.jpg
ORGANIZER;CN="Paroisse Notre Dame de Laeken":MAILTO:secretariat.laeken@ndlaeken-olvlaken.be
END:VEVENT
BEGIN:VEVENT
DTSTART;TZID=Europe/Brussels:20250807T173000
DTEND;TZID=Europe/Brussels:20250807T180000
DTSTAMP:20260421T210221
CREATED:20250711T123906Z
LAST-MODIFIED:20250711T123906Z
UID:6214-1754587800-1754589600@notredamedelaeken.be
SUMMARY:Messe en semaine
DESCRIPTION:
URL:https://notredamedelaeken.be/evenement/messe-en-semaine-198/
LOCATION:Église Notre Dame de Laeken\, Parvis Notre-Dame\, Région de Bruxelles-Capitale\, Belgique\, 1020\, Belgique
CATEGORIES:Messe de semaine
ATTACH;FMTTYPE=image/jpeg:https://notredamedelaeken.be/wp-content/uploads/2021/10/Notre-Dame-de-Laeken-eglise-paroissiale-a-Bruxelles-Belgique-scaled.jpg
ORGANIZER;CN="Paroisse Notre Dame de Laeken":MAILTO:secretariat.laeken@ndlaeken-olvlaken.be
END:VEVENT
BEGIN:VEVENT
DTSTART;TZID=Europe/Brussels:20250808T173000
DTEND;TZID=Europe/Brussels:20250808T180000
DTSTAMP:20260421T210221
CREATED:20250711T123939Z
LAST-MODIFIED:20250711T123939Z
UID:6216-1754674200-1754676000@notredamedelaeken.be
SUMMARY:Messe en semaine
DESCRIPTION:
URL:https://notredamedelaeken.be/evenement/messe-en-semaine-199/
LOCATION:Église Notre Dame de Laeken\, Parvis Notre-Dame\, Région de Bruxelles-Capitale\, Belgique\, 1020\, Belgique
CATEGORIES:Messe de semaine
ATTACH;FMTTYPE=image/jpeg:https://notredamedelaeken.be/wp-content/uploads/2021/10/Notre-Dame-de-Laeken-eglise-paroissiale-a-Bruxelles-Belgique-scaled.jpg
ORGANIZER;CN="Paroisse Notre Dame de Laeken":MAILTO:secretariat.laeken@ndlaeken-olvlaken.be
END:VEVENT
BEGIN:VEVENT
DTSTART;TZID=Europe/Brussels:20250812T173000
DTEND;TZID=Europe/Brussels:20250812T180000
DTSTAMP:20260421T210221
CREATED:20250711T124013Z
LAST-MODIFIED:20250711T124013Z
UID:6218-1755019800-1755021600@notredamedelaeken.be
SUMMARY:Messe en semaine
DESCRIPTION:
URL:https://notredamedelaeken.be/evenement/messe-en-semaine-200/
LOCATION:Église Notre Dame de Laeken\, Parvis Notre-Dame\, Région de Bruxelles-Capitale\, Belgique\, 1020\, Belgique
CATEGORIES:Messe de semaine
ATTACH;FMTTYPE=image/jpeg:https://notredamedelaeken.be/wp-content/uploads/2021/10/Notre-Dame-de-Laeken-eglise-paroissiale-a-Bruxelles-Belgique-scaled.jpg
ORGANIZER;CN="Paroisse Notre Dame de Laeken":MAILTO:secretariat.laeken@ndlaeken-olvlaken.be
END:VEVENT
BEGIN:VEVENT
DTSTART;TZID=Europe/Brussels:20250813T173000
DTEND;TZID=Europe/Brussels:20250813T180000
DTSTAMP:20260421T210221
CREATED:20250711T124043Z
LAST-MODIFIED:20250711T124043Z
UID:6220-1755106200-1755108000@notredamedelaeken.be
SUMMARY:Messe en semaine
DESCRIPTION:
URL:https://notredamedelaeken.be/evenement/messe-en-semaine-201/
LOCATION:Église Notre Dame de Laeken\, Parvis Notre-Dame\, Région de Bruxelles-Capitale\, Belgique\, 1020\, Belgique
CATEGORIES:Messe de semaine
ATTACH;FMTTYPE=image/jpeg:https://notredamedelaeken.be/wp-content/uploads/2021/10/Notre-Dame-de-Laeken-eglise-paroissiale-a-Bruxelles-Belgique-scaled.jpg
ORGANIZER;CN="Paroisse Notre Dame de Laeken":MAILTO:secretariat.laeken@ndlaeken-olvlaken.be
END:VEVENT
BEGIN:VEVENT
DTSTART;TZID=Europe/Brussels:20250819T173000
DTEND;TZID=Europe/Brussels:20250819T180000
DTSTAMP:20260421T210221
CREATED:20250711T124309Z
LAST-MODIFIED:20250711T124309Z
UID:6224-1755624600-1755626400@notredamedelaeken.be
SUMMARY:Messe en semaine
DESCRIPTION:
URL:https://notredamedelaeken.be/evenement/messe-en-semaine-202/
LOCATION:Église Notre Dame de Laeken\, Parvis Notre-Dame\, Région de Bruxelles-Capitale\, Belgique\, 1020\, Belgique
CATEGORIES:Messe de semaine
ATTACH;FMTTYPE=image/jpeg:https://notredamedelaeken.be/wp-content/uploads/2021/10/Notre-Dame-de-Laeken-eglise-paroissiale-a-Bruxelles-Belgique-scaled.jpg
ORGANIZER;CN="Paroisse Notre Dame de Laeken":MAILTO:secretariat.laeken@ndlaeken-olvlaken.be
END:VEVENT
BEGIN:VEVENT
DTSTART;TZID=Europe/Brussels:20250820T173000
DTEND;TZID=Europe/Brussels:20250820T180000
DTSTAMP:20260421T210221
CREATED:20250711T124348Z
LAST-MODIFIED:20250711T124348Z
UID:6226-1755711000-1755712800@notredamedelaeken.be
SUMMARY:Messe en semaine
DESCRIPTION:
URL:https://notredamedelaeken.be/evenement/messe-en-semaine-203/
LOCATION:Église Notre Dame de Laeken\, Parvis Notre-Dame\, Région de Bruxelles-Capitale\, Belgique\, 1020\, Belgique
CATEGORIES:Messe de semaine
ATTACH;FMTTYPE=image/jpeg:https://notredamedelaeken.be/wp-content/uploads/2021/10/Notre-Dame-de-Laeken-eglise-paroissiale-a-Bruxelles-Belgique-scaled.jpg
ORGANIZER;CN="Paroisse Notre Dame de Laeken":MAILTO:secretariat.laeken@ndlaeken-olvlaken.be
END:VEVENT
BEGIN:VEVENT
DTSTART;TZID=Europe/Brussels:20250821T173000
DTEND;TZID=Europe/Brussels:20250821T180000
DTSTAMP:20260421T210221
CREATED:20250711T124418Z
LAST-MODIFIED:20250711T124418Z
UID:6228-1755797400-1755799200@notredamedelaeken.be
SUMMARY:Messe en semaine
DESCRIPTION:
URL:https://notredamedelaeken.be/evenement/messe-en-semaine-204/
LOCATION:Église Notre Dame de Laeken\, Parvis Notre-Dame\, Région de Bruxelles-Capitale\, Belgique\, 1020\, Belgique
CATEGORIES:Messe de semaine
ATTACH;FMTTYPE=image/jpeg:https://notredamedelaeken.be/wp-content/uploads/2021/10/Notre-Dame-de-Laeken-eglise-paroissiale-a-Bruxelles-Belgique-scaled.jpg
ORGANIZER;CN="Paroisse Notre Dame de Laeken":MAILTO:secretariat.laeken@ndlaeken-olvlaken.be
END:VEVENT
BEGIN:VEVENT
DTSTART;TZID=Europe/Brussels:20250822T173000
DTEND;TZID=Europe/Brussels:20250822T180000
DTSTAMP:20260421T210221
CREATED:20250711T124450Z
LAST-MODIFIED:20250711T124450Z
UID:6230-1755883800-1755885600@notredamedelaeken.be
SUMMARY:Messe en semaine
DESCRIPTION:
URL:https://notredamedelaeken.be/evenement/messe-en-semaine-205/
LOCATION:Église Notre Dame de Laeken\, Parvis Notre-Dame\, Région de Bruxelles-Capitale\, Belgique\, 1020\, Belgique
CATEGORIES:Messe de semaine
ATTACH;FMTTYPE=image/jpeg:https://notredamedelaeken.be/wp-content/uploads/2021/10/Notre-Dame-de-Laeken-eglise-paroissiale-a-Bruxelles-Belgique-scaled.jpg
ORGANIZER;CN="Paroisse Notre Dame de Laeken":MAILTO:secretariat.laeken@ndlaeken-olvlaken.be
END:VEVENT
BEGIN:VEVENT
DTSTART;TZID=Europe/Brussels:20250826T173000
DTEND;TZID=Europe/Brussels:20250826T180000
DTSTAMP:20260421T210221
CREATED:20250711T124520Z
LAST-MODIFIED:20250711T124520Z
UID:6232-1756229400-1756231200@notredamedelaeken.be
SUMMARY:Messe en semaine
DESCRIPTION:
URL:https://notredamedelaeken.be/evenement/messe-en-semaine-206/
LOCATION:Église Notre Dame de Laeken\, Parvis Notre-Dame\, Région de Bruxelles-Capitale\, Belgique\, 1020\, Belgique
CATEGORIES:Messe de semaine
ATTACH;FMTTYPE=image/jpeg:https://notredamedelaeken.be/wp-content/uploads/2021/10/Notre-Dame-de-Laeken-eglise-paroissiale-a-Bruxelles-Belgique-scaled.jpg
ORGANIZER;CN="Paroisse Notre Dame de Laeken":MAILTO:secretariat.laeken@ndlaeken-olvlaken.be
END:VEVENT
BEGIN:VEVENT
DTSTART;TZID=Europe/Brussels:20250827T173000
DTEND;TZID=Europe/Brussels:20250827T180000
DTSTAMP:20260421T210221
CREATED:20250711T124610Z
LAST-MODIFIED:20250711T124610Z
UID:6234-1756315800-1756317600@notredamedelaeken.be
SUMMARY:Messe en semaine
DESCRIPTION:
URL:https://notredamedelaeken.be/evenement/messe-en-semaine-207/
LOCATION:Église Notre Dame de Laeken\, Parvis Notre-Dame\, Région de Bruxelles-Capitale\, Belgique\, 1020\, Belgique
CATEGORIES:Messe de semaine
ATTACH;FMTTYPE=image/jpeg:https://notredamedelaeken.be/wp-content/uploads/2021/10/Notre-Dame-de-Laeken-eglise-paroissiale-a-Bruxelles-Belgique-scaled.jpg
ORGANIZER;CN="Paroisse Notre Dame de Laeken":MAILTO:secretariat.laeken@ndlaeken-olvlaken.be
END:VEVENT
BEGIN:VEVENT
DTSTART;TZID=Europe/Brussels:20250828T173000
DTEND;TZID=Europe/Brussels:20250828T180000
DTSTAMP:20260421T210221
CREATED:20250711T124640Z
LAST-MODIFIED:20250711T124640Z
UID:6236-1756402200-1756404000@notredamedelaeken.be
SUMMARY:Messe en semaine
DESCRIPTION:
URL:https://notredamedelaeken.be/evenement/messe-en-semaine-208/
LOCATION:Église Notre Dame de Laeken\, Parvis Notre-Dame\, Région de Bruxelles-Capitale\, Belgique\, 1020\, Belgique
CATEGORIES:Messe de semaine
ATTACH;FMTTYPE=image/jpeg:https://notredamedelaeken.be/wp-content/uploads/2021/10/Notre-Dame-de-Laeken-eglise-paroissiale-a-Bruxelles-Belgique-scaled.jpg
ORGANIZER;CN="Paroisse Notre Dame de Laeken":MAILTO:secretariat.laeken@ndlaeken-olvlaken.be
END:VEVENT
BEGIN:VEVENT
DTSTART;TZID=Europe/Brussels:20250829T173000
DTEND;TZID=Europe/Brussels:20250829T180000
DTSTAMP:20260421T210221
CREATED:20250711T124712Z
LAST-MODIFIED:20250711T124712Z
UID:6238-1756488600-1756490400@notredamedelaeken.be
SUMMARY:Messe en semaine
DESCRIPTION:
URL:https://notredamedelaeken.be/evenement/messe-en-semaine-209/
LOCATION:Église Notre Dame de Laeken\, Parvis Notre-Dame\, Région de Bruxelles-Capitale\, Belgique\, 1020\, Belgique
CATEGORIES:Messe de semaine
ATTACH;FMTTYPE=image/jpeg:https://notredamedelaeken.be/wp-content/uploads/2021/10/Notre-Dame-de-Laeken-eglise-paroissiale-a-Bruxelles-Belgique-scaled.jpg
ORGANIZER;CN="Paroisse Notre Dame de Laeken":MAILTO:secretariat.laeken@ndlaeken-olvlaken.be
END:VEVENT
END:VCALENDAR