BEGIN:VCALENDAR
VERSION:2.0
PRODID:-//ÉGLISE NOTRE DAME DE LAEKEN - ECPv6.15.17.1//NONSGML v1.0//EN
CALSCALE:GREGORIAN
METHOD:PUBLISH
X-WR-CALNAME:ÉGLISE NOTRE DAME DE LAEKEN
X-ORIGINAL-URL:https://notredamedelaeken.be
X-WR-CALDESC:Évènements pour ÉGLISE NOTRE DAME DE LAEKEN
REFRESH-INTERVAL;VALUE=DURATION:PT1H
X-Robots-Tag:noindex
X-PUBLISHED-TTL:PT1H
BEGIN:VTIMEZONE
TZID:Europe/Brussels
BEGIN:DAYLIGHT
TZOFFSETFROM:+0100
TZOFFSETTO:+0200
TZNAME:CEST
DTSTART:20230326T010000
END:DAYLIGHT
BEGIN:STANDARD
TZOFFSETFROM:+0200
TZOFFSETTO:+0100
TZNAME:CET
DTSTART:20231029T010000
END:STANDARD
BEGIN:DAYLIGHT
TZOFFSETFROM:+0100
TZOFFSETTO:+0200
TZNAME:CEST
DTSTART:20240331T010000
END:DAYLIGHT
BEGIN:STANDARD
TZOFFSETFROM:+0200
TZOFFSETTO:+0100
TZNAME:CET
DTSTART:20241027T010000
END:STANDARD
BEGIN:DAYLIGHT
TZOFFSETFROM:+0100
TZOFFSETTO:+0200
TZNAME:CEST
DTSTART:20250330T010000
END:DAYLIGHT
BEGIN:STANDARD
TZOFFSETFROM:+0200
TZOFFSETTO:+0100
TZNAME:CET
DTSTART:20251026T010000
END:STANDARD
END:VTIMEZONE
BEGIN:VEVENT
DTSTART;TZID=Europe/Brussels:20240504T170000
DTEND;TZID=Europe/Brussels:20240504T180000
DTSTAMP:20260421T133157
CREATED:20240502T145757Z
LAST-MODIFIED:20240502T145757Z
UID:4758-1714842000-1714845600@notredamedelaeken.be
SUMMARY:Messe dominicale anticipée - 6e Dimanche de Pâques
DESCRIPTION:
URL:https://notredamedelaeken.be/evenement/messe-dominicale-anticipee-6e-dimanche-de-paques-4/
LOCATION:Église Notre Dame de Laeken\, Parvis Notre-Dame\, Région de Bruxelles-Capitale\, Belgique\, 1020\, Belgique
CATEGORIES:Messe dominicale
ATTACH;FMTTYPE=image/jpeg:https://notredamedelaeken.be/wp-content/uploads/2021/10/Notre-Dame-de-Laeken-eglise-paroissiale-a-Bruxelles-Belgique-scaled.jpg
END:VEVENT
BEGIN:VEVENT
DTSTART;TZID=Europe/Brussels:20240505T111500
DTEND;TZID=Europe/Brussels:20240505T123000
DTSTAMP:20260421T133157
CREATED:20240115T195225Z
LAST-MODIFIED:20240115T195225Z
UID:4234-1714907700-1714912200@notredamedelaeken.be
SUMMARY:Messe dominicale - 6e Dimanche de Pâques
DESCRIPTION:
URL:https://notredamedelaeken.be/evenement/messe-dominicale-6e-dimanche-de-paques/
LOCATION:Église Notre Dame de Laeken\, Parvis Notre-Dame\, Région de Bruxelles-Capitale\, Belgique\, 1020\, Belgique
CATEGORIES:Messe dominicale
ATTACH;FMTTYPE=image/jpeg:https://notredamedelaeken.be/wp-content/uploads/2021/10/Notre-Dame-de-Laeken-eglise-paroissiale-a-Bruxelles-Belgique-scaled.jpg
END:VEVENT
BEGIN:VEVENT
DTSTART;TZID=Europe/Brussels:20240511T170000
DTEND;TZID=Europe/Brussels:20240511T180000
DTSTAMP:20260421T133157
CREATED:20240115T193703Z
LAST-MODIFIED:20240115T193721Z
UID:4197-1715446800-1715450400@notredamedelaeken.be
SUMMARY:Messe dominicale anticipée - 7e Dimanche de Pâques
DESCRIPTION:
URL:https://notredamedelaeken.be/evenement/messe-dominicale-anticipee-6e-dimanche-de-paques-2/
LOCATION:Église Notre Dame de Laeken\, Parvis Notre-Dame\, Région de Bruxelles-Capitale\, Belgique\, 1020\, Belgique
CATEGORIES:Messe dominicale
ATTACH;FMTTYPE=image/jpeg:https://notredamedelaeken.be/wp-content/uploads/2021/10/Notre-Dame-de-Laeken-eglise-paroissiale-a-Bruxelles-Belgique-scaled.jpg
END:VEVENT
BEGIN:VEVENT
DTSTART;TZID=Europe/Brussels:20240512T111500
DTEND;TZID=Europe/Brussels:20240512T123000
DTSTAMP:20260421T133157
CREATED:20240115T195255Z
LAST-MODIFIED:20240115T195255Z
UID:4236-1715512500-1715517000@notredamedelaeken.be
SUMMARY:Messe dominicale - 7e Dimanche de Pâques
DESCRIPTION:
URL:https://notredamedelaeken.be/evenement/messe-dominicale-7e-dimanche-de-paques-3/
LOCATION:Église Notre Dame de Laeken\, Parvis Notre-Dame\, Région de Bruxelles-Capitale\, Belgique\, 1020\, Belgique
CATEGORIES:Messe dominicale
ATTACH;FMTTYPE=image/jpeg:https://notredamedelaeken.be/wp-content/uploads/2021/10/Notre-Dame-de-Laeken-eglise-paroissiale-a-Bruxelles-Belgique-scaled.jpg
END:VEVENT
BEGIN:VEVENT
DTSTART;TZID=Europe/Brussels:20240518T170000
DTEND;TZID=Europe/Brussels:20240518T180000
DTSTAMP:20260421T133157
CREATED:20240115T193809Z
LAST-MODIFIED:20240115T193809Z
UID:4200-1716051600-1716055200@notredamedelaeken.be
SUMMARY:Messe dominicale anticipée - Dimanche de Pentecôte
DESCRIPTION:
URL:https://notredamedelaeken.be/evenement/messe-dominicale-anticipee-dimanche-de-pentecote/
LOCATION:Église Notre Dame de Laeken\, Parvis Notre-Dame\, Région de Bruxelles-Capitale\, Belgique\, 1020\, Belgique
CATEGORIES:Messe dominicale
ATTACH;FMTTYPE=image/jpeg:https://notredamedelaeken.be/wp-content/uploads/2021/10/Notre-Dame-de-Laeken-eglise-paroissiale-a-Bruxelles-Belgique-scaled.jpg
END:VEVENT
BEGIN:VEVENT
DTSTART;TZID=Europe/Brussels:20240519T111500
DTEND;TZID=Europe/Brussels:20240519T123000
DTSTAMP:20260421T133157
CREATED:20240115T195338Z
LAST-MODIFIED:20240115T195338Z
UID:4238-1716117300-1716121800@notredamedelaeken.be
SUMMARY:Messe dominicale - Dimanche de Pentecôte
DESCRIPTION:
URL:https://notredamedelaeken.be/evenement/messe-dominicale-dimanche-de-pentecote/
LOCATION:Église Notre Dame de Laeken\, Parvis Notre-Dame\, Région de Bruxelles-Capitale\, Belgique\, 1020\, Belgique
CATEGORIES:Messe dominicale
ATTACH;FMTTYPE=image/jpeg:https://notredamedelaeken.be/wp-content/uploads/2021/10/Notre-Dame-de-Laeken-eglise-paroissiale-a-Bruxelles-Belgique-scaled.jpg
END:VEVENT
BEGIN:VEVENT
DTSTART;TZID=Europe/Brussels:20240525T170000
DTEND;TZID=Europe/Brussels:20240525T180000
DTSTAMP:20260421T133157
CREATED:20240115T193858Z
LAST-MODIFIED:20240115T193858Z
UID:4202-1716656400-1716660000@notredamedelaeken.be
SUMMARY:Messe dominicale anticipée - La Sainte Trinité
DESCRIPTION:
URL:https://notredamedelaeken.be/evenement/messe-dominicale-anticipee-la-sainte-trinite/
LOCATION:Église Notre Dame de Laeken\, Parvis Notre-Dame\, Région de Bruxelles-Capitale\, Belgique\, 1020\, Belgique
CATEGORIES:Messe dominicale
ATTACH;FMTTYPE=image/jpeg:https://notredamedelaeken.be/wp-content/uploads/2021/10/Notre-Dame-de-Laeken-eglise-paroissiale-a-Bruxelles-Belgique-scaled.jpg
END:VEVENT
BEGIN:VEVENT
DTSTART;TZID=Europe/Brussels:20240526T111500
DTEND;TZID=Europe/Brussels:20240526T123000
DTSTAMP:20260421T133157
CREATED:20240115T195428Z
LAST-MODIFIED:20240115T195428Z
UID:4240-1716722100-1716726600@notredamedelaeken.be
SUMMARY:Messe dominicale - Dimanche de la Sainte Trinité
DESCRIPTION:
URL:https://notredamedelaeken.be/evenement/messe-dominicale-dimanche-de-la-sainte-trinite/
LOCATION:Église Notre Dame de Laeken\, Parvis Notre-Dame\, Région de Bruxelles-Capitale\, Belgique\, 1020\, Belgique
CATEGORIES:Messe dominicale
ATTACH;FMTTYPE=image/jpeg:https://notredamedelaeken.be/wp-content/uploads/2021/10/Notre-Dame-de-Laeken-eglise-paroissiale-a-Bruxelles-Belgique-scaled.jpg
END:VEVENT
END:VCALENDAR