BEGIN:VCALENDAR
VERSION:2.0
PRODID:-//ÉGLISE NOTRE DAME DE LAEKEN - ECPv6.15.17.1//NONSGML v1.0//EN
CALSCALE:GREGORIAN
METHOD:PUBLISH
X-WR-CALNAME:ÉGLISE NOTRE DAME DE LAEKEN
X-ORIGINAL-URL:https://notredamedelaeken.be
X-WR-CALDESC:Évènements pour ÉGLISE NOTRE DAME DE LAEKEN
REFRESH-INTERVAL;VALUE=DURATION:PT1H
X-Robots-Tag:noindex
X-PUBLISHED-TTL:PT1H
BEGIN:VTIMEZONE
TZID:Europe/Brussels
BEGIN:DAYLIGHT
TZOFFSETFROM:+0100
TZOFFSETTO:+0200
TZNAME:CEST
DTSTART:20230326T010000
END:DAYLIGHT
BEGIN:STANDARD
TZOFFSETFROM:+0200
TZOFFSETTO:+0100
TZNAME:CET
DTSTART:20231029T010000
END:STANDARD
BEGIN:DAYLIGHT
TZOFFSETFROM:+0100
TZOFFSETTO:+0200
TZNAME:CEST
DTSTART:20240331T010000
END:DAYLIGHT
BEGIN:STANDARD
TZOFFSETFROM:+0200
TZOFFSETTO:+0100
TZNAME:CET
DTSTART:20241027T010000
END:STANDARD
BEGIN:DAYLIGHT
TZOFFSETFROM:+0100
TZOFFSETTO:+0200
TZNAME:CEST
DTSTART:20250330T010000
END:DAYLIGHT
BEGIN:STANDARD
TZOFFSETFROM:+0200
TZOFFSETTO:+0100
TZNAME:CET
DTSTART:20251026T010000
END:STANDARD
END:VTIMEZONE
BEGIN:VEVENT
DTSTART;TZID=Europe/Brussels:20240803T170000
DTEND;TZID=Europe/Brussels:20240803T180000
DTSTAMP:20260422T143201
CREATED:20240617T130018Z
LAST-MODIFIED:20240617T130018Z
UID:4920-1722704400-1722708000@notredamedelaeken.be
SUMMARY:Messe dominicale anticipée - 18e Dimanche dans l'année
DESCRIPTION:
URL:https://notredamedelaeken.be/evenement/messe-dominicale-anticipee-18e-dimanche-dans-lannee/
LOCATION:Église Notre Dame de Laeken\, Parvis Notre-Dame\, Région de Bruxelles-Capitale\, Belgique\, 1020\, Belgique
CATEGORIES:Messe dominicale
ATTACH;FMTTYPE=image/jpeg:https://notredamedelaeken.be/wp-content/uploads/2021/10/Notre-Dame-de-Laeken-eglise-paroissiale-a-Bruxelles-Belgique-scaled.jpg
END:VEVENT
BEGIN:VEVENT
DTSTART;TZID=Europe/Brussels:20240804T111500
DTEND;TZID=Europe/Brussels:20240804T123000
DTSTAMP:20260422T143201
CREATED:20240617T125022Z
LAST-MODIFIED:20240617T125022Z
UID:4892-1722770100-1722774600@notredamedelaeken.be
SUMMARY:Messe dominicale - 18e Dimanche dans l'année
DESCRIPTION:
URL:https://notredamedelaeken.be/evenement/messe-dominicale-18e-dimanche-dans-lannee/
LOCATION:Église Notre Dame de Laeken\, Parvis Notre-Dame\, Région de Bruxelles-Capitale\, Belgique\, 1020\, Belgique
CATEGORIES:Messe dominicale
ATTACH;FMTTYPE=image/jpeg:https://notredamedelaeken.be/wp-content/uploads/2021/10/Notre-Dame-de-Laeken-eglise-paroissiale-a-Bruxelles-Belgique-scaled.jpg
END:VEVENT
BEGIN:VEVENT
DTSTART;TZID=Europe/Brussels:20240810T170000
DTEND;TZID=Europe/Brussels:20240810T180000
DTSTAMP:20260422T143201
CREATED:20240617T130104Z
LAST-MODIFIED:20240617T130104Z
UID:4922-1723309200-1723312800@notredamedelaeken.be
SUMMARY:Messe dominicale anticipée - 19e Dimanche dans l'année
DESCRIPTION:
URL:https://notredamedelaeken.be/evenement/messe-dominicale-anticipee-19e-dimanche-dans-lannee/
LOCATION:Église Notre Dame de Laeken\, Parvis Notre-Dame\, Région de Bruxelles-Capitale\, Belgique\, 1020\, Belgique
CATEGORIES:Messe dominicale
ATTACH;FMTTYPE=image/jpeg:https://notredamedelaeken.be/wp-content/uploads/2021/10/Notre-Dame-de-Laeken-eglise-paroissiale-a-Bruxelles-Belgique-scaled.jpg
END:VEVENT
BEGIN:VEVENT
DTSTART;TZID=Europe/Brussels:20240811T111500
DTEND;TZID=Europe/Brussels:20240811T123000
DTSTAMP:20260422T143201
CREATED:20240617T125103Z
LAST-MODIFIED:20240617T125103Z
UID:4894-1723374900-1723379400@notredamedelaeken.be
SUMMARY:Messe dominicale - 19e Dimanche dans l'année
DESCRIPTION:
URL:https://notredamedelaeken.be/evenement/messe-dominicale-19e-dimanche-dans-lannee/
LOCATION:Église Notre Dame de Laeken\, Parvis Notre-Dame\, Région de Bruxelles-Capitale\, Belgique\, 1020\, Belgique
CATEGORIES:Messe dominicale
ATTACH;FMTTYPE=image/jpeg:https://notredamedelaeken.be/wp-content/uploads/2021/10/Notre-Dame-de-Laeken-eglise-paroissiale-a-Bruxelles-Belgique-scaled.jpg
END:VEVENT
BEGIN:VEVENT
DTSTART;TZID=Europe/Brussels:20240817T170000
DTEND;TZID=Europe/Brussels:20240817T180000
DTSTAMP:20260422T143201
CREATED:20240617T130133Z
LAST-MODIFIED:20240617T130133Z
UID:4924-1723914000-1723917600@notredamedelaeken.be
SUMMARY:Messe dominicale anticipée - 20e Dimanche dans l'année
DESCRIPTION:
URL:https://notredamedelaeken.be/evenement/messe-dominicale-anticipee-20e-dimanche-dans-lannee/
LOCATION:Église Notre Dame de Laeken\, Parvis Notre-Dame\, Région de Bruxelles-Capitale\, Belgique\, 1020\, Belgique
CATEGORIES:Messe dominicale
ATTACH;FMTTYPE=image/jpeg:https://notredamedelaeken.be/wp-content/uploads/2021/10/Notre-Dame-de-Laeken-eglise-paroissiale-a-Bruxelles-Belgique-scaled.jpg
END:VEVENT
BEGIN:VEVENT
DTSTART;TZID=Europe/Brussels:20240818T111500
DTEND;TZID=Europe/Brussels:20240818T123000
DTSTAMP:20260422T143201
CREATED:20240617T125136Z
LAST-MODIFIED:20240617T125136Z
UID:4896-1723979700-1723984200@notredamedelaeken.be
SUMMARY:Messe dominicale - 20e Dimanche dans l'année
DESCRIPTION:
URL:https://notredamedelaeken.be/evenement/messe-dominicale-20e-dimanche-dans-lannee/
LOCATION:Église Notre Dame de Laeken\, Parvis Notre-Dame\, Région de Bruxelles-Capitale\, Belgique\, 1020\, Belgique
CATEGORIES:Messe dominicale
ATTACH;FMTTYPE=image/jpeg:https://notredamedelaeken.be/wp-content/uploads/2021/10/Notre-Dame-de-Laeken-eglise-paroissiale-a-Bruxelles-Belgique-scaled.jpg
END:VEVENT
BEGIN:VEVENT
DTSTART;TZID=Europe/Brussels:20240824T170000
DTEND;TZID=Europe/Brussels:20240824T180000
DTSTAMP:20260422T143201
CREATED:20240617T130200Z
LAST-MODIFIED:20240617T130200Z
UID:4926-1724518800-1724522400@notredamedelaeken.be
SUMMARY:Messe dominicale anticipée - 21e Dimanche dans l'année
DESCRIPTION:
URL:https://notredamedelaeken.be/evenement/messe-dominicale-anticipee-21e-dimanche-dans-lannee/
LOCATION:Église Notre Dame de Laeken\, Parvis Notre-Dame\, Région de Bruxelles-Capitale\, Belgique\, 1020\, Belgique
CATEGORIES:Messe dominicale
ATTACH;FMTTYPE=image/jpeg:https://notredamedelaeken.be/wp-content/uploads/2021/10/Notre-Dame-de-Laeken-eglise-paroissiale-a-Bruxelles-Belgique-scaled.jpg
END:VEVENT
BEGIN:VEVENT
DTSTART;TZID=Europe/Brussels:20240825T111500
DTEND;TZID=Europe/Brussels:20240825T123000
DTSTAMP:20260422T143201
CREATED:20240617T125213Z
LAST-MODIFIED:20240617T125213Z
UID:4898-1724584500-1724589000@notredamedelaeken.be
SUMMARY:Messe dominicale - 21e Dimanche dans l'année
DESCRIPTION:
URL:https://notredamedelaeken.be/evenement/messe-dominicale-21e-dimanche-dans-lannee/
LOCATION:Église Notre Dame de Laeken\, Parvis Notre-Dame\, Région de Bruxelles-Capitale\, Belgique\, 1020\, Belgique
CATEGORIES:Messe dominicale
ATTACH;FMTTYPE=image/jpeg:https://notredamedelaeken.be/wp-content/uploads/2021/10/Notre-Dame-de-Laeken-eglise-paroissiale-a-Bruxelles-Belgique-scaled.jpg
END:VEVENT
BEGIN:VEVENT
DTSTART;TZID=Europe/Brussels:20240831T170000
DTEND;TZID=Europe/Brussels:20240831T180000
DTSTAMP:20260422T143201
CREATED:20240617T130233Z
LAST-MODIFIED:20240617T130233Z
UID:4928-1725123600-1725127200@notredamedelaeken.be
SUMMARY:Messe dominicale anticipée - 22e Dimanche dans l'année
DESCRIPTION:
URL:https://notredamedelaeken.be/evenement/messe-dominicale-anticipee-22e-dimanche-dans-lannee/
LOCATION:Église Notre Dame de Laeken\, Parvis Notre-Dame\, Région de Bruxelles-Capitale\, Belgique\, 1020\, Belgique
CATEGORIES:Messe dominicale
ATTACH;FMTTYPE=image/jpeg:https://notredamedelaeken.be/wp-content/uploads/2021/10/Notre-Dame-de-Laeken-eglise-paroissiale-a-Bruxelles-Belgique-scaled.jpg
END:VEVENT
END:VCALENDAR