BEGIN:VCALENDAR
VERSION:2.0
PRODID:-//ÉGLISE NOTRE DAME DE LAEKEN - ECPv6.15.17.1//NONSGML v1.0//EN
CALSCALE:GREGORIAN
METHOD:PUBLISH
X-ORIGINAL-URL:https://notredamedelaeken.be
X-WR-CALDESC:Évènements pour ÉGLISE NOTRE DAME DE LAEKEN
REFRESH-INTERVAL;VALUE=DURATION:PT1H
X-Robots-Tag:noindex
X-PUBLISHED-TTL:PT1H
BEGIN:VTIMEZONE
TZID:Europe/Brussels
BEGIN:DAYLIGHT
TZOFFSETFROM:+0100
TZOFFSETTO:+0200
TZNAME:CEST
DTSTART:20230326T010000
END:DAYLIGHT
BEGIN:STANDARD
TZOFFSETFROM:+0200
TZOFFSETTO:+0100
TZNAME:CET
DTSTART:20231029T010000
END:STANDARD
BEGIN:DAYLIGHT
TZOFFSETFROM:+0100
TZOFFSETTO:+0200
TZNAME:CEST
DTSTART:20240331T010000
END:DAYLIGHT
BEGIN:STANDARD
TZOFFSETFROM:+0200
TZOFFSETTO:+0100
TZNAME:CET
DTSTART:20241027T010000
END:STANDARD
BEGIN:DAYLIGHT
TZOFFSETFROM:+0100
TZOFFSETTO:+0200
TZNAME:CEST
DTSTART:20250330T010000
END:DAYLIGHT
BEGIN:STANDARD
TZOFFSETFROM:+0200
TZOFFSETTO:+0100
TZNAME:CET
DTSTART:20251026T010000
END:STANDARD
END:VTIMEZONE
BEGIN:VEVENT
DTSTART;TZID=Europe/Brussels:20240103T170000
DTEND;TZID=Europe/Brussels:20240103T173000
DTSTAMP:20260422T150029
CREATED:20231009T150802Z
LAST-MODIFIED:20231009T150802Z
UID:3782-1704301200-1704303000@notredamedelaeken.be
SUMMARY:Adoration du Saint Sacrement
DESCRIPTION:
URL:https://notredamedelaeken.be/evenement/adoration-du-saint-sacrement-178/
CATEGORIES:Adoration
ATTACH;FMTTYPE=image/jpeg:https://notredamedelaeken.be/wp-content/uploads/2021/10/Notre-Dame-de-Laeken-eglise-paroissiale-a-Bruxelles-Belgique-scaled.jpg
ORGANIZER;CN="Paroisse Notre Dame de Laeken":MAILTO:secretariat.laeken@ndlaeken-olvlaken.be
END:VEVENT
BEGIN:VEVENT
DTSTART;TZID=Europe/Brussels:20240105T170000
DTEND;TZID=Europe/Brussels:20240105T173000
DTSTAMP:20260422T150029
CREATED:20231009T150844Z
LAST-MODIFIED:20231009T150844Z
UID:3784-1704474000-1704475800@notredamedelaeken.be
SUMMARY:Adoration du Saint Sacrement
DESCRIPTION:
URL:https://notredamedelaeken.be/evenement/adoration-du-saint-sacrement-179/
CATEGORIES:Adoration
ATTACH;FMTTYPE=image/jpeg:https://notredamedelaeken.be/wp-content/uploads/2021/10/Notre-Dame-de-Laeken-eglise-paroissiale-a-Bruxelles-Belgique-scaled.jpg
ORGANIZER;CN="Paroisse Notre Dame de Laeken":MAILTO:secretariat.laeken@ndlaeken-olvlaken.be
END:VEVENT
BEGIN:VEVENT
DTSTART;TZID=Europe/Brussels:20240110T170000
DTEND;TZID=Europe/Brussels:20240110T173000
DTSTAMP:20260422T150029
CREATED:20240115T203121Z
LAST-MODIFIED:20240115T203121Z
UID:4338-1704906000-1704907800@notredamedelaeken.be
SUMMARY:Adoration du Saint Sacrement
DESCRIPTION:
URL:https://notredamedelaeken.be/evenement/adoration-du-saint-sacrement-169/
CATEGORIES:Adoration
ATTACH;FMTTYPE=image/jpeg:https://notredamedelaeken.be/wp-content/uploads/2021/10/Notre-Dame-de-Laeken-eglise-paroissiale-a-Bruxelles-Belgique-scaled.jpg
ORGANIZER;CN="Paroisse Notre Dame de Laeken":MAILTO:secretariat.laeken@ndlaeken-olvlaken.be
END:VEVENT
BEGIN:VEVENT
DTSTART;TZID=Europe/Brussels:20240112T170000
DTEND;TZID=Europe/Brussels:20240112T173000
DTSTAMP:20260422T150029
CREATED:20240115T203149Z
LAST-MODIFIED:20240115T203149Z
UID:4340-1705078800-1705080600@notredamedelaeken.be
SUMMARY:Adoration du Saint Sacrement
DESCRIPTION:
URL:https://notredamedelaeken.be/evenement/adoration-du-saint-sacrement-180/
CATEGORIES:Adoration
ATTACH;FMTTYPE=image/jpeg:https://notredamedelaeken.be/wp-content/uploads/2021/10/Notre-Dame-de-Laeken-eglise-paroissiale-a-Bruxelles-Belgique-scaled.jpg
ORGANIZER;CN="Paroisse Notre Dame de Laeken":MAILTO:secretariat.laeken@ndlaeken-olvlaken.be
END:VEVENT
BEGIN:VEVENT
DTSTART;TZID=Europe/Brussels:20240117T170000
DTEND;TZID=Europe/Brussels:20240117T173000
DTSTAMP:20260422T150029
CREATED:20240115T203211Z
LAST-MODIFIED:20240115T203211Z
UID:4342-1705510800-1705512600@notredamedelaeken.be
SUMMARY:Adoration du Saint Sacrement
DESCRIPTION:
URL:https://notredamedelaeken.be/evenement/adoration-du-saint-sacrement-181/
CATEGORIES:Adoration
ATTACH;FMTTYPE=image/jpeg:https://notredamedelaeken.be/wp-content/uploads/2021/10/Notre-Dame-de-Laeken-eglise-paroissiale-a-Bruxelles-Belgique-scaled.jpg
ORGANIZER;CN="Paroisse Notre Dame de Laeken":MAILTO:secretariat.laeken@ndlaeken-olvlaken.be
END:VEVENT
BEGIN:VEVENT
DTSTART;TZID=Europe/Brussels:20240119T170000
DTEND;TZID=Europe/Brussels:20240119T173000
DTSTAMP:20260422T150029
CREATED:20240115T203236Z
LAST-MODIFIED:20240115T203236Z
UID:4344-1705683600-1705685400@notredamedelaeken.be
SUMMARY:Adoration du Saint Sacrement
DESCRIPTION:
URL:https://notredamedelaeken.be/evenement/adoration-du-saint-sacrement-182/
CATEGORIES:Adoration
ATTACH;FMTTYPE=image/jpeg:https://notredamedelaeken.be/wp-content/uploads/2021/10/Notre-Dame-de-Laeken-eglise-paroissiale-a-Bruxelles-Belgique-scaled.jpg
ORGANIZER;CN="Paroisse Notre Dame de Laeken":MAILTO:secretariat.laeken@ndlaeken-olvlaken.be
END:VEVENT
BEGIN:VEVENT
DTSTART;TZID=Europe/Brussels:20240124T170000
DTEND;TZID=Europe/Brussels:20240124T173000
DTSTAMP:20260422T150029
CREATED:20240115T203259Z
LAST-MODIFIED:20240115T203259Z
UID:4346-1706115600-1706117400@notredamedelaeken.be
SUMMARY:Adoration du Saint Sacrement
DESCRIPTION:
URL:https://notredamedelaeken.be/evenement/adoration-du-saint-sacrement-183/
CATEGORIES:Adoration
ATTACH;FMTTYPE=image/jpeg:https://notredamedelaeken.be/wp-content/uploads/2021/10/Notre-Dame-de-Laeken-eglise-paroissiale-a-Bruxelles-Belgique-scaled.jpg
ORGANIZER;CN="Paroisse Notre Dame de Laeken":MAILTO:secretariat.laeken@ndlaeken-olvlaken.be
END:VEVENT
BEGIN:VEVENT
DTSTART;TZID=Europe/Brussels:20240126T170000
DTEND;TZID=Europe/Brussels:20240126T173000
DTSTAMP:20260422T150029
CREATED:20240115T203324Z
LAST-MODIFIED:20240115T203324Z
UID:4348-1706288400-1706290200@notredamedelaeken.be
SUMMARY:Adoration du Saint Sacrement
DESCRIPTION:
URL:https://notredamedelaeken.be/evenement/adoration-du-saint-sacrement-184/
CATEGORIES:Adoration
ATTACH;FMTTYPE=image/jpeg:https://notredamedelaeken.be/wp-content/uploads/2021/10/Notre-Dame-de-Laeken-eglise-paroissiale-a-Bruxelles-Belgique-scaled.jpg
ORGANIZER;CN="Paroisse Notre Dame de Laeken":MAILTO:secretariat.laeken@ndlaeken-olvlaken.be
END:VEVENT
BEGIN:VEVENT
DTSTART;TZID=Europe/Brussels:20240131T170000
DTEND;TZID=Europe/Brussels:20240131T173000
DTSTAMP:20260422T150029
CREATED:20240115T203352Z
LAST-MODIFIED:20240115T203352Z
UID:4350-1706720400-1706722200@notredamedelaeken.be
SUMMARY:Adoration du Saint Sacrement
DESCRIPTION:
URL:https://notredamedelaeken.be/evenement/adoration-du-saint-sacrement-185/
CATEGORIES:Adoration
ATTACH;FMTTYPE=image/jpeg:https://notredamedelaeken.be/wp-content/uploads/2021/10/Notre-Dame-de-Laeken-eglise-paroissiale-a-Bruxelles-Belgique-scaled.jpg
ORGANIZER;CN="Paroisse Notre Dame de Laeken":MAILTO:secretariat.laeken@ndlaeken-olvlaken.be
END:VEVENT
END:VCALENDAR