BEGIN:VCALENDAR
VERSION:2.0
PRODID:-//ÉGLISE NOTRE DAME DE LAEKEN - ECPv6.15.17.1//NONSGML v1.0//EN
CALSCALE:GREGORIAN
METHOD:PUBLISH
X-WR-CALNAME:ÉGLISE NOTRE DAME DE LAEKEN
X-ORIGINAL-URL:https://notredamedelaeken.be
X-WR-CALDESC:Évènements pour ÉGLISE NOTRE DAME DE LAEKEN
REFRESH-INTERVAL;VALUE=DURATION:PT1H
X-Robots-Tag:noindex
X-PUBLISHED-TTL:PT1H
BEGIN:VTIMEZONE
TZID:Europe/Brussels
BEGIN:DAYLIGHT
TZOFFSETFROM:+0100
TZOFFSETTO:+0200
TZNAME:CEST
DTSTART:20220327T010000
END:DAYLIGHT
BEGIN:STANDARD
TZOFFSETFROM:+0200
TZOFFSETTO:+0100
TZNAME:CET
DTSTART:20221030T010000
END:STANDARD
BEGIN:DAYLIGHT
TZOFFSETFROM:+0100
TZOFFSETTO:+0200
TZNAME:CEST
DTSTART:20230326T010000
END:DAYLIGHT
BEGIN:STANDARD
TZOFFSETFROM:+0200
TZOFFSETTO:+0100
TZNAME:CET
DTSTART:20231029T010000
END:STANDARD
BEGIN:DAYLIGHT
TZOFFSETFROM:+0100
TZOFFSETTO:+0200
TZNAME:CEST
DTSTART:20240331T010000
END:DAYLIGHT
BEGIN:STANDARD
TZOFFSETFROM:+0200
TZOFFSETTO:+0100
TZNAME:CET
DTSTART:20241027T010000
END:STANDARD
END:VTIMEZONE
BEGIN:VEVENT
DTSTART;TZID=Europe/Brussels:20231124T090000
DTEND;TZID=Europe/Brussels:20231124T173000
DTSTAMP:20260422T192439
CREATED:20231009T150213Z
LAST-MODIFIED:20231009T161058Z
UID:3760-1700816400-1700847000@notredamedelaeken.be
SUMMARY:Journée d'Adoration du Saint Sacrement
DESCRIPTION:Ce vendredi 24 novembre 2023\, la paroisse Notre-Dame de Laeken s’associe au festival d’adoration du Saint-Sacrement\, « Venite Adoremus »\, qui a lieu du 16 au 26 novembre 2023 dans toute la Belgique. \n\n\nL’église Notre-Dame de Laeken sera ouverte et le Saint-Sacrement y sera exposé de 9h00 à 17h30\, n’hésitez pas à nous y rejoindre et rester pour quelques minutes\, une demi-heure ou plus. \n\n\nCette journée se clôturera par la célébration d’une eucharistie à 17h30. \n\n\nAfin de nous organiser et de ne pas avoir d’interruption durant cette journée d’adoration\, une liste d’inscriptions (par tranches d’une demi-heure) sera disponible à l’entrée de l’église à partir du 1er novembre prochain.
URL:https://notredamedelaeken.be/evenement/adoration-du-saint-sacrement-167/
LOCATION:Église Notre Dame de Laeken\, Parvis Notre-Dame\, Région de Bruxelles-Capitale\, Belgique\, 1020\, Belgique
CATEGORIES:Adoration
ATTACH;FMTTYPE=image/jpeg:https://notredamedelaeken.be/wp-content/uploads/2021/10/Venite_Adoremus_logo.jpg
ORGANIZER;CN="Paroisse Notre Dame de Laeken":MAILTO:secretariat.laeken@ndlaeken-olvlaken.be
END:VEVENT
END:VCALENDAR