BEGIN:VCALENDAR
VERSION:2.0
PRODID:-//ÉGLISE NOTRE DAME DE LAEKEN - ECPv6.15.20//NONSGML v1.0//EN
CALSCALE:GREGORIAN
METHOD:PUBLISH
X-WR-CALNAME:ÉGLISE NOTRE DAME DE LAEKEN
X-ORIGINAL-URL:https://notredamedelaeken.be
X-WR-CALDESC:Évènements pour ÉGLISE NOTRE DAME DE LAEKEN
REFRESH-INTERVAL;VALUE=DURATION:PT1H
X-Robots-Tag:noindex
X-PUBLISHED-TTL:PT1H
BEGIN:VTIMEZONE
TZID:Europe/Brussels
BEGIN:DAYLIGHT
TZOFFSETFROM:+0100
TZOFFSETTO:+0200
TZNAME:CEST
DTSTART:20240331T010000
END:DAYLIGHT
BEGIN:STANDARD
TZOFFSETFROM:+0200
TZOFFSETTO:+0100
TZNAME:CET
DTSTART:20241027T010000
END:STANDARD
BEGIN:DAYLIGHT
TZOFFSETFROM:+0100
TZOFFSETTO:+0200
TZNAME:CEST
DTSTART:20250330T010000
END:DAYLIGHT
BEGIN:STANDARD
TZOFFSETFROM:+0200
TZOFFSETTO:+0100
TZNAME:CET
DTSTART:20251026T010000
END:STANDARD
BEGIN:DAYLIGHT
TZOFFSETFROM:+0100
TZOFFSETTO:+0200
TZNAME:CEST
DTSTART:20260329T010000
END:DAYLIGHT
BEGIN:STANDARD
TZOFFSETFROM:+0200
TZOFFSETTO:+0100
TZNAME:CET
DTSTART:20261025T010000
END:STANDARD
END:VTIMEZONE
BEGIN:VEVENT
DTSTART;TZID=Europe/Brussels:20251101T111500
DTEND;TZID=Europe/Brussels:20251101T123000
DTSTAMP:20260425T021325
CREATED:20250630T190656Z
LAST-MODIFIED:20250630T190656Z
UID:6088-1761995700-1762000200@notredamedelaeken.be
SUMMARY:Messe de la Toussaint
DESCRIPTION:
URL:https://notredamedelaeken.be/evenement/messe-de-la-toussaint/
LOCATION:Église Notre Dame de Laeken\, Parvis Notre-Dame\, Région de Bruxelles-Capitale\, Belgique\, 1020\, Belgique
CATEGORIES:Messe dominicale
ATTACH;FMTTYPE=image/jpeg:https://notredamedelaeken.be/wp-content/uploads/2021/10/Notre-Dame-de-Laeken-eglise-paroissiale-a-Bruxelles-Belgique-scaled.jpg
ORGANIZER;CN="Paroisse Notre Dame de Laeken":MAILTO:secretariat.laeken@ndlaeken-olvlaken.be
END:VEVENT
BEGIN:VEVENT
DTSTART;TZID=Europe/Brussels:20251101T140000
DTEND;TZID=Europe/Brussels:20251101T170000
DTSTAMP:20260425T021325
CREATED:20250113T234210Z
LAST-MODIFIED:20250113T234638Z
UID:5800-1762005600-1762016400@notredamedelaeken.be
SUMMARY:La Crypte Royale sera ouverte samedi 1er novembre 2025 de 14h à 17h
DESCRIPTION:La Crypte Royale sera sera accessible en visite libre samedi 1er novembre 2025 de 14h à 17h dans notre église de Notre Dame de Laeken. \nBienvenue à tous !  \n* Vous trouverez les horaires pour toute l’année 2025 ici Horaire Crypte Royale \nL’accès
URL:https://notredamedelaeken.be/evenement/la-crypte-royale-sera-ouverte-samedi-1er-novembre-2025-de-14h-a-17h/
LOCATION:Église Notre Dame de Laeken\, Parvis Notre-Dame\, Région de Bruxelles-Capitale\, Belgique\, 1020\, Belgique
CATEGORIES:Crypte Royale
ATTACH;FMTTYPE=image/jpeg:https://notredamedelaeken.be/wp-content/uploads/2022/06/3CA6F0CE-C80E-429E-8FD1-C8DBE56EE365-scaled.jpeg
END:VEVENT
BEGIN:VEVENT
DTSTART;TZID=Europe/Brussels:20251101T150000
DTEND;TZID=Europe/Brussels:20251101T160000
DTSTAMP:20260425T021325
CREATED:20250630T191953Z
LAST-MODIFIED:20250630T191953Z
UID:6102-1762009200-1762012800@notredamedelaeken.be
SUMMARY:Toussaint 2024 - Veillée de prières suivie d'une procession jusqu'au chœur de l'ancienne église dans le cimetière
DESCRIPTION:Veillée de prières suivie d’une procession jusqu’au chœur de l’ancienne église dans le cimetière à 15h00 ; \nAttention le samedi 1er novembre\, il n’y aura pas d’adoration du Saint Sacrement à 17h00 et pas d’eucharistie à 17h30 !
URL:https://notredamedelaeken.be/evenement/toussaint-2024-veillee-de-prieres-suivie-dune-procession-jusquau-choeur-de-lancienne-eglise-dans-le-cimetiere-2/
LOCATION:Église Notre Dame de Laeken\, Parvis Notre-Dame\, Région de Bruxelles-Capitale\, Belgique\, 1020\, Belgique
CATEGORIES:Messe Toussaint
ATTACH;FMTTYPE=image/jpeg:https://notredamedelaeken.be/wp-content/uploads/2022/10/saint-768x511-1.jpg
ORGANIZER;CN="Paroisse Notre Dame de Laeken":MAILTO:secretariat.laeken@ndlaeken-olvlaken.be
END:VEVENT
BEGIN:VEVENT
DTSTART;TZID=Europe/Brussels:20251102T111500
DTEND;TZID=Europe/Brussels:20251102T123000
DTSTAMP:20260425T021325
CREATED:20250630T184619Z
LAST-MODIFIED:20250630T184619Z
UID:6014-1762082100-1762086600@notredamedelaeken.be
SUMMARY:Messe dominicale
DESCRIPTION:
URL:https://notredamedelaeken.be/evenement/messe-dominicale-58/
LOCATION:Église Notre Dame de Laeken\, Parvis Notre-Dame\, Région de Bruxelles-Capitale\, Belgique\, 1020\, Belgique
CATEGORIES:Messe dominicale
ATTACH;FMTTYPE=image/jpeg:https://notredamedelaeken.be/wp-content/uploads/2021/10/Notre-Dame-de-Laeken-eglise-paroissiale-a-Bruxelles-Belgique-scaled.jpg
ORGANIZER;CN="Paroisse Notre Dame de Laeken":MAILTO:secretariat.laeken@ndlaeken-olvlaken.be
END:VEVENT
BEGIN:VEVENT
DTSTART;TZID=Europe/Brussels:20251104T170000
DTEND;TZID=Europe/Brussels:20251104T173000
DTSTAMP:20260425T021325
CREATED:20250711T131741Z
LAST-MODIFIED:20250711T131858Z
UID:6343-1762275600-1762277400@notredamedelaeken.be
SUMMARY:Adoration du Saint Sacrement
DESCRIPTION:
URL:https://notredamedelaeken.be/evenement/adoration-du-saint-sacrement-401/
CATEGORIES:Adoration
ATTACH;FMTTYPE=image/jpeg:https://notredamedelaeken.be/wp-content/uploads/2024/02/IMG_1683-1.jpeg
ORGANIZER;CN="Paroisse Notre Dame de Laeken":MAILTO:secretariat.laeken@ndlaeken-olvlaken.be
END:VEVENT
BEGIN:VEVENT
DTSTART;TZID=Europe/Brussels:20251104T173000
DTEND;TZID=Europe/Brussels:20251104T180000
DTSTAMP:20260425T021325
CREATED:20250713T183935Z
LAST-MODIFIED:20250713T183935Z
UID:6428-1762277400-1762279200@notredamedelaeken.be
SUMMARY:Messe en semaine
DESCRIPTION:
URL:https://notredamedelaeken.be/evenement/messe-en-semaine-237/
LOCATION:Église Notre Dame de Laeken\, Parvis Notre-Dame\, Région de Bruxelles-Capitale\, Belgique\, 1020\, Belgique
CATEGORIES:Messe de semaine
ATTACH;FMTTYPE=image/jpeg:https://notredamedelaeken.be/wp-content/uploads/2021/10/Notre-Dame-de-Laeken-eglise-paroissiale-a-Bruxelles-Belgique-scaled.jpg
ORGANIZER;CN="Paroisse Notre Dame de Laeken":MAILTO:secretariat.laeken@ndlaeken-olvlaken.be
END:VEVENT
BEGIN:VEVENT
DTSTART;TZID=Europe/Brussels:20251105T170000
DTEND;TZID=Europe/Brussels:20251105T173000
DTSTAMP:20260425T021325
CREATED:20250711T131927Z
LAST-MODIFIED:20250711T131927Z
UID:6346-1762362000-1762363800@notredamedelaeken.be
SUMMARY:Adoration du Saint Sacrement
DESCRIPTION:
URL:https://notredamedelaeken.be/evenement/adoration-du-saint-sacrement-402/
CATEGORIES:Adoration
ATTACH;FMTTYPE=image/jpeg:https://notredamedelaeken.be/wp-content/uploads/2024/02/IMG_1683-1.jpeg
ORGANIZER;CN="Paroisse Notre Dame de Laeken":MAILTO:secretariat.laeken@ndlaeken-olvlaken.be
END:VEVENT
BEGIN:VEVENT
DTSTART;TZID=Europe/Brussels:20251105T173000
DTEND;TZID=Europe/Brussels:20251105T180000
DTSTAMP:20260425T021325
CREATED:20250713T184014Z
LAST-MODIFIED:20250713T184014Z
UID:6430-1762363800-1762365600@notredamedelaeken.be
SUMMARY:Messe en semaine
DESCRIPTION:
URL:https://notredamedelaeken.be/evenement/messe-en-semaine-238/
LOCATION:Église Notre Dame de Laeken\, Parvis Notre-Dame\, Région de Bruxelles-Capitale\, Belgique\, 1020\, Belgique
CATEGORIES:Messe de semaine
ATTACH;FMTTYPE=image/jpeg:https://notredamedelaeken.be/wp-content/uploads/2021/10/Notre-Dame-de-Laeken-eglise-paroissiale-a-Bruxelles-Belgique-scaled.jpg
ORGANIZER;CN="Paroisse Notre Dame de Laeken":MAILTO:secretariat.laeken@ndlaeken-olvlaken.be
END:VEVENT
BEGIN:VEVENT
DTSTART;TZID=Europe/Brussels:20251106T170000
DTEND;TZID=Europe/Brussels:20251106T173000
DTSTAMP:20260425T021325
CREATED:20250711T131952Z
LAST-MODIFIED:20250711T131952Z
UID:6348-1762448400-1762450200@notredamedelaeken.be
SUMMARY:Adoration du Saint Sacrement
DESCRIPTION:
URL:https://notredamedelaeken.be/evenement/adoration-du-saint-sacrement-403/
CATEGORIES:Adoration
ATTACH;FMTTYPE=image/jpeg:https://notredamedelaeken.be/wp-content/uploads/2024/02/IMG_1683-1.jpeg
ORGANIZER;CN="Paroisse Notre Dame de Laeken":MAILTO:secretariat.laeken@ndlaeken-olvlaken.be
END:VEVENT
BEGIN:VEVENT
DTSTART;TZID=Europe/Brussels:20251107T170000
DTEND;TZID=Europe/Brussels:20251107T173000
DTSTAMP:20260425T021325
CREATED:20250711T132018Z
LAST-MODIFIED:20250711T132018Z
UID:6350-1762534800-1762536600@notredamedelaeken.be
SUMMARY:Adoration du Saint Sacrement
DESCRIPTION:
URL:https://notredamedelaeken.be/evenement/adoration-du-saint-sacrement-404/
CATEGORIES:Adoration
ATTACH;FMTTYPE=image/jpeg:https://notredamedelaeken.be/wp-content/uploads/2024/02/IMG_1683-1.jpeg
ORGANIZER;CN="Paroisse Notre Dame de Laeken":MAILTO:secretariat.laeken@ndlaeken-olvlaken.be
END:VEVENT
BEGIN:VEVENT
DTSTART;TZID=Europe/Brussels:20251107T173000
DTEND;TZID=Europe/Brussels:20251107T180000
DTSTAMP:20260425T021325
CREATED:20250713T184040Z
LAST-MODIFIED:20250713T184128Z
UID:6432-1762536600-1762538400@notredamedelaeken.be
SUMMARY:Messe en semaine
DESCRIPTION:
URL:https://notredamedelaeken.be/evenement/messe-en-semaine-239/
LOCATION:Église Notre Dame de Laeken\, Parvis Notre-Dame\, Région de Bruxelles-Capitale\, Belgique\, 1020\, Belgique
CATEGORIES:Messe de semaine
ATTACH;FMTTYPE=image/jpeg:https://notredamedelaeken.be/wp-content/uploads/2021/10/Notre-Dame-de-Laeken-eglise-paroissiale-a-Bruxelles-Belgique-scaled.jpg
ORGANIZER;CN="Paroisse Notre Dame de Laeken":MAILTO:secretariat.laeken@ndlaeken-olvlaken.be
END:VEVENT
BEGIN:VEVENT
DTSTART;TZID=Europe/Brussels:20251108T170000
DTEND;TZID=Europe/Brussels:20251108T180000
DTSTAMP:20260425T021325
CREATED:20250630T190118Z
LAST-MODIFIED:20250630T190118Z
UID:6068-1762621200-1762624800@notredamedelaeken.be
SUMMARY:Messe dominicale anticipée
DESCRIPTION:
URL:https://notredamedelaeken.be/evenement/messe-dominicale-anticipee-63/
LOCATION:Église Notre Dame de Laeken\, Parvis Notre-Dame\, Région de Bruxelles-Capitale\, Belgique\, 1020\, Belgique
CATEGORIES:Messe dominicale
ATTACH;FMTTYPE=image/jpeg:https://notredamedelaeken.be/wp-content/uploads/2021/10/Notre-Dame-de-Laeken-eglise-paroissiale-a-Bruxelles-Belgique-scaled.jpg
ORGANIZER;CN="Paroisse Notre Dame de Laeken":MAILTO:secretariat.laeken@ndlaeken-olvlaken.be
END:VEVENT
BEGIN:VEVENT
DTSTART;TZID=Europe/Brussels:20251109T111500
DTEND;TZID=Europe/Brussels:20251109T123000
DTSTAMP:20260425T021325
CREATED:20250630T184647Z
LAST-MODIFIED:20250630T184647Z
UID:6016-1762686900-1762691400@notredamedelaeken.be
SUMMARY:Messe dominicale
DESCRIPTION:
URL:https://notredamedelaeken.be/evenement/messe-dominicale-59/
LOCATION:Église Notre Dame de Laeken\, Parvis Notre-Dame\, Région de Bruxelles-Capitale\, Belgique\, 1020\, Belgique
CATEGORIES:Messe dominicale
ATTACH;FMTTYPE=image/jpeg:https://notredamedelaeken.be/wp-content/uploads/2021/10/Notre-Dame-de-Laeken-eglise-paroissiale-a-Bruxelles-Belgique-scaled.jpg
ORGANIZER;CN="Paroisse Notre Dame de Laeken":MAILTO:secretariat.laeken@ndlaeken-olvlaken.be
END:VEVENT
BEGIN:VEVENT
DTSTART;TZID=Europe/Brussels:20251111T170000
DTEND;TZID=Europe/Brussels:20251111T173000
DTSTAMP:20260425T021325
CREATED:20250711T132046Z
LAST-MODIFIED:20250711T132046Z
UID:6352-1762880400-1762882200@notredamedelaeken.be
SUMMARY:Adoration du Saint Sacrement
DESCRIPTION:
URL:https://notredamedelaeken.be/evenement/adoration-du-saint-sacrement-405/
CATEGORIES:Adoration
ATTACH;FMTTYPE=image/jpeg:https://notredamedelaeken.be/wp-content/uploads/2024/02/IMG_1683-1.jpeg
ORGANIZER;CN="Paroisse Notre Dame de Laeken":MAILTO:secretariat.laeken@ndlaeken-olvlaken.be
END:VEVENT
BEGIN:VEVENT
DTSTART;TZID=Europe/Brussels:20251111T173000
DTEND;TZID=Europe/Brussels:20251111T180000
DTSTAMP:20260425T021325
CREATED:20250713T184159Z
LAST-MODIFIED:20250713T184159Z
UID:6434-1762882200-1762884000@notredamedelaeken.be
SUMMARY:Messe en semaine
DESCRIPTION:
URL:https://notredamedelaeken.be/evenement/messe-en-semaine-240/
LOCATION:Église Notre Dame de Laeken\, Parvis Notre-Dame\, Région de Bruxelles-Capitale\, Belgique\, 1020\, Belgique
CATEGORIES:Messe de semaine
ATTACH;FMTTYPE=image/jpeg:https://notredamedelaeken.be/wp-content/uploads/2021/10/Notre-Dame-de-Laeken-eglise-paroissiale-a-Bruxelles-Belgique-scaled.jpg
ORGANIZER;CN="Paroisse Notre Dame de Laeken":MAILTO:secretariat.laeken@ndlaeken-olvlaken.be
END:VEVENT
BEGIN:VEVENT
DTSTART;TZID=Europe/Brussels:20251112T170000
DTEND;TZID=Europe/Brussels:20251112T173000
DTSTAMP:20260425T021325
CREATED:20250711T132112Z
LAST-MODIFIED:20250711T132112Z
UID:6354-1762966800-1762968600@notredamedelaeken.be
SUMMARY:Adoration du Saint Sacrement
DESCRIPTION:
URL:https://notredamedelaeken.be/evenement/adoration-du-saint-sacrement-406/
CATEGORIES:Adoration
ATTACH;FMTTYPE=image/jpeg:https://notredamedelaeken.be/wp-content/uploads/2024/02/IMG_1683-1.jpeg
ORGANIZER;CN="Paroisse Notre Dame de Laeken":MAILTO:secretariat.laeken@ndlaeken-olvlaken.be
END:VEVENT
BEGIN:VEVENT
DTSTART;TZID=Europe/Brussels:20251112T173000
DTEND;TZID=Europe/Brussels:20251112T180000
DTSTAMP:20260425T021325
CREATED:20250713T184223Z
LAST-MODIFIED:20250713T184223Z
UID:6436-1762968600-1762970400@notredamedelaeken.be
SUMMARY:Messe en semaine
DESCRIPTION:
URL:https://notredamedelaeken.be/evenement/messe-en-semaine-241/
LOCATION:Église Notre Dame de Laeken\, Parvis Notre-Dame\, Région de Bruxelles-Capitale\, Belgique\, 1020\, Belgique
CATEGORIES:Messe de semaine
ATTACH;FMTTYPE=image/jpeg:https://notredamedelaeken.be/wp-content/uploads/2021/10/Notre-Dame-de-Laeken-eglise-paroissiale-a-Bruxelles-Belgique-scaled.jpg
ORGANIZER;CN="Paroisse Notre Dame de Laeken":MAILTO:secretariat.laeken@ndlaeken-olvlaken.be
END:VEVENT
BEGIN:VEVENT
DTSTART;TZID=Europe/Brussels:20251113T170000
DTEND;TZID=Europe/Brussels:20251113T173000
DTSTAMP:20260425T021325
CREATED:20250711T132139Z
LAST-MODIFIED:20250711T132139Z
UID:6356-1763053200-1763055000@notredamedelaeken.be
SUMMARY:Adoration du Saint Sacrement
DESCRIPTION:
URL:https://notredamedelaeken.be/evenement/adoration-du-saint-sacrement-407/
CATEGORIES:Adoration
ATTACH;FMTTYPE=image/jpeg:https://notredamedelaeken.be/wp-content/uploads/2024/02/IMG_1683-1.jpeg
ORGANIZER;CN="Paroisse Notre Dame de Laeken":MAILTO:secretariat.laeken@ndlaeken-olvlaken.be
END:VEVENT
BEGIN:VEVENT
DTSTART;TZID=Europe/Brussels:20251113T173000
DTEND;TZID=Europe/Brussels:20251113T180000
DTSTAMP:20260425T021325
CREATED:20250713T184250Z
LAST-MODIFIED:20250713T184250Z
UID:6438-1763055000-1763056800@notredamedelaeken.be
SUMMARY:Messe en semaine
DESCRIPTION:
URL:https://notredamedelaeken.be/evenement/messe-en-semaine-242/
LOCATION:Église Notre Dame de Laeken\, Parvis Notre-Dame\, Région de Bruxelles-Capitale\, Belgique\, 1020\, Belgique
CATEGORIES:Messe de semaine
ATTACH;FMTTYPE=image/jpeg:https://notredamedelaeken.be/wp-content/uploads/2021/10/Notre-Dame-de-Laeken-eglise-paroissiale-a-Bruxelles-Belgique-scaled.jpg
ORGANIZER;CN="Paroisse Notre Dame de Laeken":MAILTO:secretariat.laeken@ndlaeken-olvlaken.be
END:VEVENT
BEGIN:VEVENT
DTSTART;TZID=Europe/Brussels:20251114T170000
DTEND;TZID=Europe/Brussels:20251114T173000
DTSTAMP:20260425T021325
CREATED:20250711T132214Z
LAST-MODIFIED:20250711T132214Z
UID:6358-1763139600-1763141400@notredamedelaeken.be
SUMMARY:Adoration du Saint Sacrement
DESCRIPTION:
URL:https://notredamedelaeken.be/evenement/adoration-du-saint-sacrement-408/
CATEGORIES:Adoration
ATTACH;FMTTYPE=image/jpeg:https://notredamedelaeken.be/wp-content/uploads/2024/02/IMG_1683-1.jpeg
ORGANIZER;CN="Paroisse Notre Dame de Laeken":MAILTO:secretariat.laeken@ndlaeken-olvlaken.be
END:VEVENT
BEGIN:VEVENT
DTSTART;TZID=Europe/Brussels:20251114T173000
DTEND;TZID=Europe/Brussels:20251114T180000
DTSTAMP:20260425T021325
CREATED:20250713T184314Z
LAST-MODIFIED:20250713T184314Z
UID:6440-1763141400-1763143200@notredamedelaeken.be
SUMMARY:Messe en semaine
DESCRIPTION:
URL:https://notredamedelaeken.be/evenement/messe-en-semaine-243/
LOCATION:Église Notre Dame de Laeken\, Parvis Notre-Dame\, Région de Bruxelles-Capitale\, Belgique\, 1020\, Belgique
CATEGORIES:Messe de semaine
ATTACH;FMTTYPE=image/jpeg:https://notredamedelaeken.be/wp-content/uploads/2021/10/Notre-Dame-de-Laeken-eglise-paroissiale-a-Bruxelles-Belgique-scaled.jpg
ORGANIZER;CN="Paroisse Notre Dame de Laeken":MAILTO:secretariat.laeken@ndlaeken-olvlaken.be
END:VEVENT
BEGIN:VEVENT
DTSTART;TZID=Europe/Brussels:20251115T140000
DTEND;TZID=Europe/Brussels:20251115T170000
DTSTAMP:20260425T021325
CREATED:20250113T234310Z
LAST-MODIFIED:20250113T234600Z
UID:5802-1763215200-1763226000@notredamedelaeken.be
SUMMARY:La Crypte Royale sera ouverte samedi 15 novembre 2025 de 14h à 17h
DESCRIPTION:La Crypte Royale sera sera accessible en visite libre samedi 15 novembre 2025 de 14h à 17h dans notre église de Notre Dame de Laeken. \nBienvenue à tous !  \n* Vous trouverez les horaires pour toute l’année 2025 ici Horaire Crypte Royale \nL’accès
URL:https://notredamedelaeken.be/evenement/la-crypte-royale-sera-ouverte-samedi-15-novembre-2025-de-14h-a-17h/
LOCATION:Église Notre Dame de Laeken\, Parvis Notre-Dame\, Région de Bruxelles-Capitale\, Belgique\, 1020\, Belgique
CATEGORIES:Crypte Royale
ATTACH;FMTTYPE=image/jpeg:https://notredamedelaeken.be/wp-content/uploads/2022/06/3CA6F0CE-C80E-429E-8FD1-C8DBE56EE365-scaled.jpeg
END:VEVENT
BEGIN:VEVENT
DTSTART;TZID=Europe/Brussels:20251115T170000
DTEND;TZID=Europe/Brussels:20251115T180000
DTSTAMP:20260425T021325
CREATED:20250630T190148Z
LAST-MODIFIED:20250630T190148Z
UID:6070-1763226000-1763229600@notredamedelaeken.be
SUMMARY:Messe dominicale anticipée
DESCRIPTION:
URL:https://notredamedelaeken.be/evenement/messe-dominicale-anticipee-64/
LOCATION:Église Notre Dame de Laeken\, Parvis Notre-Dame\, Région de Bruxelles-Capitale\, Belgique\, 1020\, Belgique
CATEGORIES:Messe dominicale
ATTACH;FMTTYPE=image/jpeg:https://notredamedelaeken.be/wp-content/uploads/2021/10/Notre-Dame-de-Laeken-eglise-paroissiale-a-Bruxelles-Belgique-scaled.jpg
ORGANIZER;CN="Paroisse Notre Dame de Laeken":MAILTO:secretariat.laeken@ndlaeken-olvlaken.be
END:VEVENT
BEGIN:VEVENT
DTSTART;TZID=Europe/Brussels:20251116T111500
DTEND;TZID=Europe/Brussels:20251116T123000
DTSTAMP:20260425T021325
CREATED:20250630T184709Z
LAST-MODIFIED:20250630T184709Z
UID:6018-1763291700-1763296200@notredamedelaeken.be
SUMMARY:Messe dominicale
DESCRIPTION:
URL:https://notredamedelaeken.be/evenement/messe-dominicale-60/
LOCATION:Église Notre Dame de Laeken\, Parvis Notre-Dame\, Région de Bruxelles-Capitale\, Belgique\, 1020\, Belgique
CATEGORIES:Messe dominicale
ATTACH;FMTTYPE=image/jpeg:https://notredamedelaeken.be/wp-content/uploads/2021/10/Notre-Dame-de-Laeken-eglise-paroissiale-a-Bruxelles-Belgique-scaled.jpg
ORGANIZER;CN="Paroisse Notre Dame de Laeken":MAILTO:secretariat.laeken@ndlaeken-olvlaken.be
END:VEVENT
BEGIN:VEVENT
DTSTART;TZID=Europe/Brussels:20251118T170000
DTEND;TZID=Europe/Brussels:20251118T173000
DTSTAMP:20260425T021325
CREATED:20250711T132242Z
LAST-MODIFIED:20250711T132242Z
UID:6360-1763485200-1763487000@notredamedelaeken.be
SUMMARY:Adoration du Saint Sacrement
DESCRIPTION:
URL:https://notredamedelaeken.be/evenement/adoration-du-saint-sacrement-409/
CATEGORIES:Adoration
ATTACH;FMTTYPE=image/jpeg:https://notredamedelaeken.be/wp-content/uploads/2024/02/IMG_1683-1.jpeg
ORGANIZER;CN="Paroisse Notre Dame de Laeken":MAILTO:secretariat.laeken@ndlaeken-olvlaken.be
END:VEVENT
BEGIN:VEVENT
DTSTART;TZID=Europe/Brussels:20251118T173000
DTEND;TZID=Europe/Brussels:20251118T180000
DTSTAMP:20260425T021325
CREATED:20250713T184346Z
LAST-MODIFIED:20250713T184346Z
UID:6442-1763487000-1763488800@notredamedelaeken.be
SUMMARY:Messe en semaine
DESCRIPTION:
URL:https://notredamedelaeken.be/evenement/messe-en-semaine-244/
LOCATION:Église Notre Dame de Laeken\, Parvis Notre-Dame\, Région de Bruxelles-Capitale\, Belgique\, 1020\, Belgique
CATEGORIES:Messe de semaine
ATTACH;FMTTYPE=image/jpeg:https://notredamedelaeken.be/wp-content/uploads/2021/10/Notre-Dame-de-Laeken-eglise-paroissiale-a-Bruxelles-Belgique-scaled.jpg
ORGANIZER;CN="Paroisse Notre Dame de Laeken":MAILTO:secretariat.laeken@ndlaeken-olvlaken.be
END:VEVENT
BEGIN:VEVENT
DTSTART;TZID=Europe/Brussels:20251119T170000
DTEND;TZID=Europe/Brussels:20251119T173000
DTSTAMP:20260425T021325
CREATED:20250711T132308Z
LAST-MODIFIED:20250711T132308Z
UID:6362-1763571600-1763573400@notredamedelaeken.be
SUMMARY:Adoration du Saint Sacrement
DESCRIPTION:
URL:https://notredamedelaeken.be/evenement/adoration-du-saint-sacrement-410/
CATEGORIES:Adoration
ATTACH;FMTTYPE=image/jpeg:https://notredamedelaeken.be/wp-content/uploads/2024/02/IMG_1683-1.jpeg
ORGANIZER;CN="Paroisse Notre Dame de Laeken":MAILTO:secretariat.laeken@ndlaeken-olvlaken.be
END:VEVENT
BEGIN:VEVENT
DTSTART;TZID=Europe/Brussels:20251119T173000
DTEND;TZID=Europe/Brussels:20251119T180000
DTSTAMP:20260425T021325
CREATED:20250713T184414Z
LAST-MODIFIED:20250713T184414Z
UID:6444-1763573400-1763575200@notredamedelaeken.be
SUMMARY:Messe en semaine
DESCRIPTION:
URL:https://notredamedelaeken.be/evenement/messe-en-semaine-245/
LOCATION:Église Notre Dame de Laeken\, Parvis Notre-Dame\, Région de Bruxelles-Capitale\, Belgique\, 1020\, Belgique
CATEGORIES:Messe de semaine
ATTACH;FMTTYPE=image/jpeg:https://notredamedelaeken.be/wp-content/uploads/2021/10/Notre-Dame-de-Laeken-eglise-paroissiale-a-Bruxelles-Belgique-scaled.jpg
ORGANIZER;CN="Paroisse Notre Dame de Laeken":MAILTO:secretariat.laeken@ndlaeken-olvlaken.be
END:VEVENT
BEGIN:VEVENT
DTSTART;TZID=Europe/Brussels:20251120T170000
DTEND;TZID=Europe/Brussels:20251120T173000
DTSTAMP:20260425T021325
CREATED:20250711T132346Z
LAST-MODIFIED:20250711T132346Z
UID:6364-1763658000-1763659800@notredamedelaeken.be
SUMMARY:Adoration du Saint Sacrement
DESCRIPTION:
URL:https://notredamedelaeken.be/evenement/adoration-du-saint-sacrement-411/
CATEGORIES:Adoration
ATTACH;FMTTYPE=image/jpeg:https://notredamedelaeken.be/wp-content/uploads/2024/02/IMG_1683-1.jpeg
ORGANIZER;CN="Paroisse Notre Dame de Laeken":MAILTO:secretariat.laeken@ndlaeken-olvlaken.be
END:VEVENT
BEGIN:VEVENT
DTSTART;TZID=Europe/Brussels:20251120T173000
DTEND;TZID=Europe/Brussels:20251120T180000
DTSTAMP:20260425T021325
CREATED:20250713T184440Z
LAST-MODIFIED:20250713T184440Z
UID:6446-1763659800-1763661600@notredamedelaeken.be
SUMMARY:Messe en semaine
DESCRIPTION:
URL:https://notredamedelaeken.be/evenement/messe-en-semaine-246/
LOCATION:Église Notre Dame de Laeken\, Parvis Notre-Dame\, Région de Bruxelles-Capitale\, Belgique\, 1020\, Belgique
CATEGORIES:Messe de semaine
ATTACH;FMTTYPE=image/jpeg:https://notredamedelaeken.be/wp-content/uploads/2021/10/Notre-Dame-de-Laeken-eglise-paroissiale-a-Bruxelles-Belgique-scaled.jpg
ORGANIZER;CN="Paroisse Notre Dame de Laeken":MAILTO:secretariat.laeken@ndlaeken-olvlaken.be
END:VEVENT
END:VCALENDAR