BEGIN:VCALENDAR
VERSION:2.0
PRODID:-//ÉGLISE NOTRE DAME DE LAEKEN - ECPv6.15.20//NONSGML v1.0//EN
CALSCALE:GREGORIAN
METHOD:PUBLISH
X-WR-CALNAME:ÉGLISE NOTRE DAME DE LAEKEN
X-ORIGINAL-URL:https://notredamedelaeken.be
X-WR-CALDESC:Évènements pour ÉGLISE NOTRE DAME DE LAEKEN
REFRESH-INTERVAL;VALUE=DURATION:PT1H
X-Robots-Tag:noindex
X-PUBLISHED-TTL:PT1H
BEGIN:VTIMEZONE
TZID:Europe/Brussels
BEGIN:DAYLIGHT
TZOFFSETFROM:+0100
TZOFFSETTO:+0200
TZNAME:CEST
DTSTART:20240331T010000
END:DAYLIGHT
BEGIN:STANDARD
TZOFFSETFROM:+0200
TZOFFSETTO:+0100
TZNAME:CET
DTSTART:20241027T010000
END:STANDARD
BEGIN:DAYLIGHT
TZOFFSETFROM:+0100
TZOFFSETTO:+0200
TZNAME:CEST
DTSTART:20250330T010000
END:DAYLIGHT
BEGIN:STANDARD
TZOFFSETFROM:+0200
TZOFFSETTO:+0100
TZNAME:CET
DTSTART:20251026T010000
END:STANDARD
BEGIN:DAYLIGHT
TZOFFSETFROM:+0100
TZOFFSETTO:+0200
TZNAME:CEST
DTSTART:20260329T010000
END:DAYLIGHT
BEGIN:STANDARD
TZOFFSETFROM:+0200
TZOFFSETTO:+0100
TZNAME:CET
DTSTART:20261025T010000
END:STANDARD
END:VTIMEZONE
BEGIN:VEVENT
DTSTART;TZID=Europe/Brussels:20251202T170000
DTEND;TZID=Europe/Brussels:20251202T173000
DTSTAMP:20260425T005710
CREATED:20250711T132702Z
LAST-MODIFIED:20250711T132702Z
UID:6376-1764694800-1764696600@notredamedelaeken.be
SUMMARY:Adoration du Saint Sacrement
DESCRIPTION:
URL:https://notredamedelaeken.be/evenement/adoration-du-saint-sacrement-417/
CATEGORIES:Adoration
ATTACH;FMTTYPE=image/jpeg:https://notredamedelaeken.be/wp-content/uploads/2024/02/IMG_1683-1.jpeg
ORGANIZER;CN="Paroisse Notre Dame de Laeken":MAILTO:secretariat.laeken@ndlaeken-olvlaken.be
END:VEVENT
BEGIN:VEVENT
DTSTART;TZID=Europe/Brussels:20251202T173000
DTEND;TZID=Europe/Brussels:20251202T180000
DTSTAMP:20260425T005710
CREATED:20250713T184819Z
LAST-MODIFIED:20250713T184819Z
UID:6458-1764696600-1764698400@notredamedelaeken.be
SUMMARY:Messe en semaine
DESCRIPTION:
URL:https://notredamedelaeken.be/evenement/messe-en-semaine-252/
LOCATION:Église Notre Dame de Laeken\, Parvis Notre-Dame\, Région de Bruxelles-Capitale\, Belgique\, 1020\, Belgique
CATEGORIES:Messe de semaine
ATTACH;FMTTYPE=image/jpeg:https://notredamedelaeken.be/wp-content/uploads/2021/10/Notre-Dame-de-Laeken-eglise-paroissiale-a-Bruxelles-Belgique-scaled.jpg
ORGANIZER;CN="Paroisse Notre Dame de Laeken":MAILTO:secretariat.laeken@ndlaeken-olvlaken.be
END:VEVENT
BEGIN:VEVENT
DTSTART;TZID=Europe/Brussels:20251203T170000
DTEND;TZID=Europe/Brussels:20251203T173000
DTSTAMP:20260425T005710
CREATED:20250711T132729Z
LAST-MODIFIED:20250711T132729Z
UID:6378-1764781200-1764783000@notredamedelaeken.be
SUMMARY:Adoration du Saint Sacrement
DESCRIPTION:
URL:https://notredamedelaeken.be/evenement/adoration-du-saint-sacrement-418/
CATEGORIES:Adoration
ATTACH;FMTTYPE=image/jpeg:https://notredamedelaeken.be/wp-content/uploads/2024/02/IMG_1683-1.jpeg
ORGANIZER;CN="Paroisse Notre Dame de Laeken":MAILTO:secretariat.laeken@ndlaeken-olvlaken.be
END:VEVENT
BEGIN:VEVENT
DTSTART;TZID=Europe/Brussels:20251203T173000
DTEND;TZID=Europe/Brussels:20251203T180000
DTSTAMP:20260425T005710
CREATED:20250713T184843Z
LAST-MODIFIED:20250713T184843Z
UID:6460-1764783000-1764784800@notredamedelaeken.be
SUMMARY:Messe en semaine
DESCRIPTION:
URL:https://notredamedelaeken.be/evenement/messe-en-semaine-253/
LOCATION:Église Notre Dame de Laeken\, Parvis Notre-Dame\, Région de Bruxelles-Capitale\, Belgique\, 1020\, Belgique
CATEGORIES:Messe de semaine
ATTACH;FMTTYPE=image/jpeg:https://notredamedelaeken.be/wp-content/uploads/2021/10/Notre-Dame-de-Laeken-eglise-paroissiale-a-Bruxelles-Belgique-scaled.jpg
ORGANIZER;CN="Paroisse Notre Dame de Laeken":MAILTO:secretariat.laeken@ndlaeken-olvlaken.be
END:VEVENT
BEGIN:VEVENT
DTSTART;TZID=Europe/Brussels:20251204T170000
DTEND;TZID=Europe/Brussels:20251204T173000
DTSTAMP:20260425T005710
CREATED:20250711T132755Z
LAST-MODIFIED:20250711T132755Z
UID:6380-1764867600-1764869400@notredamedelaeken.be
SUMMARY:Adoration du Saint Sacrement
DESCRIPTION:
URL:https://notredamedelaeken.be/evenement/adoration-du-saint-sacrement-419/
CATEGORIES:Adoration
ATTACH;FMTTYPE=image/jpeg:https://notredamedelaeken.be/wp-content/uploads/2024/02/IMG_1683-1.jpeg
ORGANIZER;CN="Paroisse Notre Dame de Laeken":MAILTO:secretariat.laeken@ndlaeken-olvlaken.be
END:VEVENT
BEGIN:VEVENT
DTSTART;TZID=Europe/Brussels:20251204T173000
DTEND;TZID=Europe/Brussels:20251204T180000
DTSTAMP:20260425T005710
CREATED:20250713T184908Z
LAST-MODIFIED:20250713T184908Z
UID:6462-1764869400-1764871200@notredamedelaeken.be
SUMMARY:Messe en semaine
DESCRIPTION:
URL:https://notredamedelaeken.be/evenement/messe-en-semaine-254/
LOCATION:Église Notre Dame de Laeken\, Parvis Notre-Dame\, Région de Bruxelles-Capitale\, Belgique\, 1020\, Belgique
CATEGORIES:Messe de semaine
ATTACH;FMTTYPE=image/jpeg:https://notredamedelaeken.be/wp-content/uploads/2021/10/Notre-Dame-de-Laeken-eglise-paroissiale-a-Bruxelles-Belgique-scaled.jpg
ORGANIZER;CN="Paroisse Notre Dame de Laeken":MAILTO:secretariat.laeken@ndlaeken-olvlaken.be
END:VEVENT
BEGIN:VEVENT
DTSTART;TZID=Europe/Brussels:20251205T140000
DTEND;TZID=Europe/Brussels:20251205T170000
DTSTAMP:20260425T005710
CREATED:20250113T234448Z
LAST-MODIFIED:20250113T234448Z
UID:5804-1764943200-1764954000@notredamedelaeken.be
SUMMARY:La Crypte Royale sera ouverte vendredi 5 décembre 2025 de 14h à 17h
DESCRIPTION:La Crypte Royale sera sera accessible en visite libre vendredi 5 décembre 2025 de 14h à 17h dans notre église de Notre Dame de Laeken. \nBienvenue à tous !  \n* Vous trouverez les horaires pour toute l’année 2025 ici Horaire Crypte Royale \nL’accès
URL:https://notredamedelaeken.be/evenement/la-crypte-royale-sera-ouverte-vendredi-5-decembre-2025-de-14h-a-17h/
LOCATION:Église Notre Dame de Laeken\, Parvis Notre-Dame\, Région de Bruxelles-Capitale\, Belgique\, 1020\, Belgique
CATEGORIES:Crypte Royale
ATTACH;FMTTYPE=image/jpeg:https://notredamedelaeken.be/wp-content/uploads/2022/06/3CA6F0CE-C80E-429E-8FD1-C8DBE56EE365-scaled.jpeg
END:VEVENT
BEGIN:VEVENT
DTSTART;TZID=Europe/Brussels:20251205T170000
DTEND;TZID=Europe/Brussels:20251205T173000
DTSTAMP:20260425T005710
CREATED:20250711T132817Z
LAST-MODIFIED:20250711T132817Z
UID:6382-1764954000-1764955800@notredamedelaeken.be
SUMMARY:Adoration du Saint Sacrement
DESCRIPTION:
URL:https://notredamedelaeken.be/evenement/adoration-du-saint-sacrement-420/
CATEGORIES:Adoration
ATTACH;FMTTYPE=image/jpeg:https://notredamedelaeken.be/wp-content/uploads/2024/02/IMG_1683-1.jpeg
ORGANIZER;CN="Paroisse Notre Dame de Laeken":MAILTO:secretariat.laeken@ndlaeken-olvlaken.be
END:VEVENT
BEGIN:VEVENT
DTSTART;TZID=Europe/Brussels:20251205T173000
DTEND;TZID=Europe/Brussels:20251205T180000
DTSTAMP:20260425T005710
CREATED:20250713T184943Z
LAST-MODIFIED:20250713T184943Z
UID:6464-1764955800-1764957600@notredamedelaeken.be
SUMMARY:Messe en semaine
DESCRIPTION:
URL:https://notredamedelaeken.be/evenement/messe-en-semaine-255/
LOCATION:Église Notre Dame de Laeken\, Parvis Notre-Dame\, Région de Bruxelles-Capitale\, Belgique\, 1020\, Belgique
CATEGORIES:Messe de semaine
ATTACH;FMTTYPE=image/jpeg:https://notredamedelaeken.be/wp-content/uploads/2021/10/Notre-Dame-de-Laeken-eglise-paroissiale-a-Bruxelles-Belgique-scaled.jpg
ORGANIZER;CN="Paroisse Notre Dame de Laeken":MAILTO:secretariat.laeken@ndlaeken-olvlaken.be
END:VEVENT
BEGIN:VEVENT
DTSTART;TZID=Europe/Brussels:20251206T170000
DTEND;TZID=Europe/Brussels:20251206T180000
DTSTAMP:20260425T005710
CREATED:20250630T190308Z
LAST-MODIFIED:20250630T190308Z
UID:6076-1765040400-1765044000@notredamedelaeken.be
SUMMARY:Messe dominicale anticipée
DESCRIPTION:
URL:https://notredamedelaeken.be/evenement/messe-dominicale-anticipee-67/
LOCATION:Église Notre Dame de Laeken\, Parvis Notre-Dame\, Région de Bruxelles-Capitale\, Belgique\, 1020\, Belgique
CATEGORIES:Messe dominicale
ATTACH;FMTTYPE=image/jpeg:https://notredamedelaeken.be/wp-content/uploads/2021/10/Notre-Dame-de-Laeken-eglise-paroissiale-a-Bruxelles-Belgique-scaled.jpg
ORGANIZER;CN="Paroisse Notre Dame de Laeken":MAILTO:secretariat.laeken@ndlaeken-olvlaken.be
END:VEVENT
BEGIN:VEVENT
DTSTART;TZID=Europe/Brussels:20251207T111500
DTEND;TZID=Europe/Brussels:20251207T123000
DTSTAMP:20260425T005710
CREATED:20250630T184825Z
LAST-MODIFIED:20250630T184825Z
UID:6024-1765106100-1765110600@notredamedelaeken.be
SUMMARY:Messe dominicale
DESCRIPTION:
URL:https://notredamedelaeken.be/evenement/messe-dominicale-63/
LOCATION:Église Notre Dame de Laeken\, Parvis Notre-Dame\, Région de Bruxelles-Capitale\, Belgique\, 1020\, Belgique
CATEGORIES:Messe dominicale
ATTACH;FMTTYPE=image/jpeg:https://notredamedelaeken.be/wp-content/uploads/2021/10/Notre-Dame-de-Laeken-eglise-paroissiale-a-Bruxelles-Belgique-scaled.jpg
ORGANIZER;CN="Paroisse Notre Dame de Laeken":MAILTO:secretariat.laeken@ndlaeken-olvlaken.be
END:VEVENT
BEGIN:VEVENT
DTSTART;TZID=Europe/Brussels:20251209T170000
DTEND;TZID=Europe/Brussels:20251209T173000
DTSTAMP:20260425T005710
CREATED:20250711T132853Z
LAST-MODIFIED:20250711T132853Z
UID:6384-1765299600-1765301400@notredamedelaeken.be
SUMMARY:Adoration du Saint Sacrement
DESCRIPTION:
URL:https://notredamedelaeken.be/evenement/adoration-du-saint-sacrement-421/
CATEGORIES:Adoration
ATTACH;FMTTYPE=image/jpeg:https://notredamedelaeken.be/wp-content/uploads/2024/02/IMG_1683-1.jpeg
ORGANIZER;CN="Paroisse Notre Dame de Laeken":MAILTO:secretariat.laeken@ndlaeken-olvlaken.be
END:VEVENT
BEGIN:VEVENT
DTSTART;TZID=Europe/Brussels:20251209T173000
DTEND;TZID=Europe/Brussels:20251209T180000
DTSTAMP:20260425T005710
CREATED:20250713T185018Z
LAST-MODIFIED:20250713T185018Z
UID:6466-1765301400-1765303200@notredamedelaeken.be
SUMMARY:Messe en semaine
DESCRIPTION:
URL:https://notredamedelaeken.be/evenement/messe-en-semaine-256/
LOCATION:Église Notre Dame de Laeken\, Parvis Notre-Dame\, Région de Bruxelles-Capitale\, Belgique\, 1020\, Belgique
CATEGORIES:Messe de semaine
ATTACH;FMTTYPE=image/jpeg:https://notredamedelaeken.be/wp-content/uploads/2021/10/Notre-Dame-de-Laeken-eglise-paroissiale-a-Bruxelles-Belgique-scaled.jpg
ORGANIZER;CN="Paroisse Notre Dame de Laeken":MAILTO:secretariat.laeken@ndlaeken-olvlaken.be
END:VEVENT
BEGIN:VEVENT
DTSTART;TZID=Europe/Brussels:20251210T170000
DTEND;TZID=Europe/Brussels:20251210T173000
DTSTAMP:20260425T005710
CREATED:20250711T132917Z
LAST-MODIFIED:20250711T132917Z
UID:6386-1765386000-1765387800@notredamedelaeken.be
SUMMARY:Adoration du Saint Sacrement
DESCRIPTION:
URL:https://notredamedelaeken.be/evenement/adoration-du-saint-sacrement-422/
CATEGORIES:Adoration
ATTACH;FMTTYPE=image/jpeg:https://notredamedelaeken.be/wp-content/uploads/2024/02/IMG_1683-1.jpeg
ORGANIZER;CN="Paroisse Notre Dame de Laeken":MAILTO:secretariat.laeken@ndlaeken-olvlaken.be
END:VEVENT
BEGIN:VEVENT
DTSTART;TZID=Europe/Brussels:20251210T173000
DTEND;TZID=Europe/Brussels:20251210T180000
DTSTAMP:20260425T005710
CREATED:20250713T185045Z
LAST-MODIFIED:20250713T185045Z
UID:6468-1765387800-1765389600@notredamedelaeken.be
SUMMARY:Messe en semaine
DESCRIPTION:
URL:https://notredamedelaeken.be/evenement/messe-en-semaine-257/
LOCATION:Église Notre Dame de Laeken\, Parvis Notre-Dame\, Région de Bruxelles-Capitale\, Belgique\, 1020\, Belgique
CATEGORIES:Messe de semaine
ATTACH;FMTTYPE=image/jpeg:https://notredamedelaeken.be/wp-content/uploads/2021/10/Notre-Dame-de-Laeken-eglise-paroissiale-a-Bruxelles-Belgique-scaled.jpg
ORGANIZER;CN="Paroisse Notre Dame de Laeken":MAILTO:secretariat.laeken@ndlaeken-olvlaken.be
END:VEVENT
BEGIN:VEVENT
DTSTART;TZID=Europe/Brussels:20251211T170000
DTEND;TZID=Europe/Brussels:20251211T173000
DTSTAMP:20260425T005710
CREATED:20250711T132949Z
LAST-MODIFIED:20250711T132949Z
UID:6388-1765472400-1765474200@notredamedelaeken.be
SUMMARY:Adoration du Saint Sacrement
DESCRIPTION:
URL:https://notredamedelaeken.be/evenement/adoration-du-saint-sacrement-423/
CATEGORIES:Adoration
ATTACH;FMTTYPE=image/jpeg:https://notredamedelaeken.be/wp-content/uploads/2024/02/IMG_1683-1.jpeg
ORGANIZER;CN="Paroisse Notre Dame de Laeken":MAILTO:secretariat.laeken@ndlaeken-olvlaken.be
END:VEVENT
BEGIN:VEVENT
DTSTART;TZID=Europe/Brussels:20251211T173000
DTEND;TZID=Europe/Brussels:20251211T180000
DTSTAMP:20260425T005710
CREATED:20250713T185113Z
LAST-MODIFIED:20250713T185113Z
UID:6470-1765474200-1765476000@notredamedelaeken.be
SUMMARY:Messe en semaine
DESCRIPTION:
URL:https://notredamedelaeken.be/evenement/messe-en-semaine-258/
LOCATION:Église Notre Dame de Laeken\, Parvis Notre-Dame\, Région de Bruxelles-Capitale\, Belgique\, 1020\, Belgique
CATEGORIES:Messe de semaine
ATTACH;FMTTYPE=image/jpeg:https://notredamedelaeken.be/wp-content/uploads/2021/10/Notre-Dame-de-Laeken-eglise-paroissiale-a-Bruxelles-Belgique-scaled.jpg
ORGANIZER;CN="Paroisse Notre Dame de Laeken":MAILTO:secretariat.laeken@ndlaeken-olvlaken.be
END:VEVENT
BEGIN:VEVENT
DTSTART;TZID=Europe/Brussels:20251212T170000
DTEND;TZID=Europe/Brussels:20251212T173000
DTSTAMP:20260425T005710
CREATED:20250711T133015Z
LAST-MODIFIED:20250711T133015Z
UID:6390-1765558800-1765560600@notredamedelaeken.be
SUMMARY:Adoration du Saint Sacrement
DESCRIPTION:
URL:https://notredamedelaeken.be/evenement/adoration-du-saint-sacrement-424/
CATEGORIES:Adoration
ATTACH;FMTTYPE=image/jpeg:https://notredamedelaeken.be/wp-content/uploads/2024/02/IMG_1683-1.jpeg
ORGANIZER;CN="Paroisse Notre Dame de Laeken":MAILTO:secretariat.laeken@ndlaeken-olvlaken.be
END:VEVENT
BEGIN:VEVENT
DTSTART;TZID=Europe/Brussels:20251212T173000
DTEND;TZID=Europe/Brussels:20251212T180000
DTSTAMP:20260425T005710
CREATED:20250713T185143Z
LAST-MODIFIED:20250713T185143Z
UID:6472-1765560600-1765562400@notredamedelaeken.be
SUMMARY:Messe en semaine
DESCRIPTION:
URL:https://notredamedelaeken.be/evenement/messe-en-semaine-259/
LOCATION:Église Notre Dame de Laeken\, Parvis Notre-Dame\, Région de Bruxelles-Capitale\, Belgique\, 1020\, Belgique
CATEGORIES:Messe de semaine
ATTACH;FMTTYPE=image/jpeg:https://notredamedelaeken.be/wp-content/uploads/2021/10/Notre-Dame-de-Laeken-eglise-paroissiale-a-Bruxelles-Belgique-scaled.jpg
ORGANIZER;CN="Paroisse Notre Dame de Laeken":MAILTO:secretariat.laeken@ndlaeken-olvlaken.be
END:VEVENT
BEGIN:VEVENT
DTSTART;TZID=Europe/Brussels:20251213T170000
DTEND;TZID=Europe/Brussels:20251213T180000
DTSTAMP:20260425T005710
CREATED:20250630T190330Z
LAST-MODIFIED:20250630T190330Z
UID:6078-1765645200-1765648800@notredamedelaeken.be
SUMMARY:Messe dominicale anticipée
DESCRIPTION:
URL:https://notredamedelaeken.be/evenement/messe-dominicale-anticipee-68/
LOCATION:Église Notre Dame de Laeken\, Parvis Notre-Dame\, Région de Bruxelles-Capitale\, Belgique\, 1020\, Belgique
CATEGORIES:Messe dominicale
ATTACH;FMTTYPE=image/jpeg:https://notredamedelaeken.be/wp-content/uploads/2021/10/Notre-Dame-de-Laeken-eglise-paroissiale-a-Bruxelles-Belgique-scaled.jpg
ORGANIZER;CN="Paroisse Notre Dame de Laeken":MAILTO:secretariat.laeken@ndlaeken-olvlaken.be
END:VEVENT
BEGIN:VEVENT
DTSTART;TZID=Europe/Brussels:20251214T111500
DTEND;TZID=Europe/Brussels:20251214T123000
DTSTAMP:20260425T005710
CREATED:20250630T184847Z
LAST-MODIFIED:20250630T184847Z
UID:6026-1765710900-1765715400@notredamedelaeken.be
SUMMARY:Messe dominicale
DESCRIPTION:
URL:https://notredamedelaeken.be/evenement/messe-dominicale-64/
LOCATION:Église Notre Dame de Laeken\, Parvis Notre-Dame\, Région de Bruxelles-Capitale\, Belgique\, 1020\, Belgique
CATEGORIES:Messe dominicale
ATTACH;FMTTYPE=image/jpeg:https://notredamedelaeken.be/wp-content/uploads/2021/10/Notre-Dame-de-Laeken-eglise-paroissiale-a-Bruxelles-Belgique-scaled.jpg
ORGANIZER;CN="Paroisse Notre Dame de Laeken":MAILTO:secretariat.laeken@ndlaeken-olvlaken.be
END:VEVENT
BEGIN:VEVENT
DTSTART;TZID=Europe/Brussels:20251216T170000
DTEND;TZID=Europe/Brussels:20251216T173000
DTSTAMP:20260425T005710
CREATED:20250711T133050Z
LAST-MODIFIED:20250711T133050Z
UID:6392-1765904400-1765906200@notredamedelaeken.be
SUMMARY:Adoration du Saint Sacrement
DESCRIPTION:
URL:https://notredamedelaeken.be/evenement/adoration-du-saint-sacrement-425/
CATEGORIES:Adoration
ATTACH;FMTTYPE=image/jpeg:https://notredamedelaeken.be/wp-content/uploads/2024/02/IMG_1683-1.jpeg
ORGANIZER;CN="Paroisse Notre Dame de Laeken":MAILTO:secretariat.laeken@ndlaeken-olvlaken.be
END:VEVENT
BEGIN:VEVENT
DTSTART;TZID=Europe/Brussels:20251216T173000
DTEND;TZID=Europe/Brussels:20251216T180000
DTSTAMP:20260425T005710
CREATED:20250713T185209Z
LAST-MODIFIED:20250713T185209Z
UID:6474-1765906200-1765908000@notredamedelaeken.be
SUMMARY:Messe en semaine
DESCRIPTION:
URL:https://notredamedelaeken.be/evenement/messe-en-semaine-260/
LOCATION:Église Notre Dame de Laeken\, Parvis Notre-Dame\, Région de Bruxelles-Capitale\, Belgique\, 1020\, Belgique
CATEGORIES:Messe de semaine
ATTACH;FMTTYPE=image/jpeg:https://notredamedelaeken.be/wp-content/uploads/2021/10/Notre-Dame-de-Laeken-eglise-paroissiale-a-Bruxelles-Belgique-scaled.jpg
ORGANIZER;CN="Paroisse Notre Dame de Laeken":MAILTO:secretariat.laeken@ndlaeken-olvlaken.be
END:VEVENT
BEGIN:VEVENT
DTSTART;TZID=Europe/Brussels:20251217T170000
DTEND;TZID=Europe/Brussels:20251217T173000
DTSTAMP:20260425T005710
CREATED:20250711T133118Z
LAST-MODIFIED:20250711T133118Z
UID:6394-1765990800-1765992600@notredamedelaeken.be
SUMMARY:Adoration du Saint Sacrement
DESCRIPTION:
URL:https://notredamedelaeken.be/evenement/adoration-du-saint-sacrement-426/
CATEGORIES:Adoration
ATTACH;FMTTYPE=image/jpeg:https://notredamedelaeken.be/wp-content/uploads/2024/02/IMG_1683-1.jpeg
ORGANIZER;CN="Paroisse Notre Dame de Laeken":MAILTO:secretariat.laeken@ndlaeken-olvlaken.be
END:VEVENT
BEGIN:VEVENT
DTSTART;TZID=Europe/Brussels:20251217T173000
DTEND;TZID=Europe/Brussels:20251217T180000
DTSTAMP:20260425T005710
CREATED:20250713T185244Z
LAST-MODIFIED:20250713T185244Z
UID:6476-1765992600-1765994400@notredamedelaeken.be
SUMMARY:Messe en semaine
DESCRIPTION:
URL:https://notredamedelaeken.be/evenement/messe-en-semaine-261/
LOCATION:Église Notre Dame de Laeken\, Parvis Notre-Dame\, Région de Bruxelles-Capitale\, Belgique\, 1020\, Belgique
CATEGORIES:Messe de semaine
ATTACH;FMTTYPE=image/jpeg:https://notredamedelaeken.be/wp-content/uploads/2021/10/Notre-Dame-de-Laeken-eglise-paroissiale-a-Bruxelles-Belgique-scaled.jpg
ORGANIZER;CN="Paroisse Notre Dame de Laeken":MAILTO:secretariat.laeken@ndlaeken-olvlaken.be
END:VEVENT
BEGIN:VEVENT
DTSTART;TZID=Europe/Brussels:20251218T170000
DTEND;TZID=Europe/Brussels:20251218T173000
DTSTAMP:20260425T005710
CREATED:20250711T133146Z
LAST-MODIFIED:20250711T133146Z
UID:6396-1766077200-1766079000@notredamedelaeken.be
SUMMARY:Adoration du Saint Sacrement
DESCRIPTION:
URL:https://notredamedelaeken.be/evenement/adoration-du-saint-sacrement-427/
CATEGORIES:Adoration
ATTACH;FMTTYPE=image/jpeg:https://notredamedelaeken.be/wp-content/uploads/2024/02/IMG_1683-1.jpeg
ORGANIZER;CN="Paroisse Notre Dame de Laeken":MAILTO:secretariat.laeken@ndlaeken-olvlaken.be
END:VEVENT
BEGIN:VEVENT
DTSTART;TZID=Europe/Brussels:20251218T173000
DTEND;TZID=Europe/Brussels:20251218T180000
DTSTAMP:20260425T005710
CREATED:20250713T185308Z
LAST-MODIFIED:20250713T185308Z
UID:6478-1766079000-1766080800@notredamedelaeken.be
SUMMARY:Messe en semaine
DESCRIPTION:
URL:https://notredamedelaeken.be/evenement/messe-en-semaine-262/
LOCATION:Église Notre Dame de Laeken\, Parvis Notre-Dame\, Région de Bruxelles-Capitale\, Belgique\, 1020\, Belgique
CATEGORIES:Messe de semaine
ATTACH;FMTTYPE=image/jpeg:https://notredamedelaeken.be/wp-content/uploads/2021/10/Notre-Dame-de-Laeken-eglise-paroissiale-a-Bruxelles-Belgique-scaled.jpg
ORGANIZER;CN="Paroisse Notre Dame de Laeken":MAILTO:secretariat.laeken@ndlaeken-olvlaken.be
END:VEVENT
BEGIN:VEVENT
DTSTART;TZID=Europe/Brussels:20251219T170000
DTEND;TZID=Europe/Brussels:20251219T173000
DTSTAMP:20260425T005710
CREATED:20250711T133215Z
LAST-MODIFIED:20250711T133215Z
UID:6398-1766163600-1766165400@notredamedelaeken.be
SUMMARY:Adoration du Saint Sacrement
DESCRIPTION:
URL:https://notredamedelaeken.be/evenement/adoration-du-saint-sacrement-428/
CATEGORIES:Adoration
ATTACH;FMTTYPE=image/jpeg:https://notredamedelaeken.be/wp-content/uploads/2024/02/IMG_1683-1.jpeg
ORGANIZER;CN="Paroisse Notre Dame de Laeken":MAILTO:secretariat.laeken@ndlaeken-olvlaken.be
END:VEVENT
BEGIN:VEVENT
DTSTART;TZID=Europe/Brussels:20251219T173000
DTEND;TZID=Europe/Brussels:20251219T180000
DTSTAMP:20260425T005710
CREATED:20250713T185333Z
LAST-MODIFIED:20250713T185333Z
UID:6480-1766165400-1766167200@notredamedelaeken.be
SUMMARY:Messe en semaine
DESCRIPTION:
URL:https://notredamedelaeken.be/evenement/messe-en-semaine-263/
LOCATION:Église Notre Dame de Laeken\, Parvis Notre-Dame\, Région de Bruxelles-Capitale\, Belgique\, 1020\, Belgique
CATEGORIES:Messe de semaine
ATTACH;FMTTYPE=image/jpeg:https://notredamedelaeken.be/wp-content/uploads/2021/10/Notre-Dame-de-Laeken-eglise-paroissiale-a-Bruxelles-Belgique-scaled.jpg
ORGANIZER;CN="Paroisse Notre Dame de Laeken":MAILTO:secretariat.laeken@ndlaeken-olvlaken.be
END:VEVENT
BEGIN:VEVENT
DTSTART;TZID=Europe/Brussels:20251220T170000
DTEND;TZID=Europe/Brussels:20251220T180000
DTSTAMP:20260425T005710
CREATED:20250630T190355Z
LAST-MODIFIED:20250630T190355Z
UID:6080-1766250000-1766253600@notredamedelaeken.be
SUMMARY:Messe dominicale anticipée
DESCRIPTION:
URL:https://notredamedelaeken.be/evenement/messe-dominicale-anticipee-69/
LOCATION:Église Notre Dame de Laeken\, Parvis Notre-Dame\, Région de Bruxelles-Capitale\, Belgique\, 1020\, Belgique
CATEGORIES:Messe dominicale
ATTACH;FMTTYPE=image/jpeg:https://notredamedelaeken.be/wp-content/uploads/2021/10/Notre-Dame-de-Laeken-eglise-paroissiale-a-Bruxelles-Belgique-scaled.jpg
ORGANIZER;CN="Paroisse Notre Dame de Laeken":MAILTO:secretariat.laeken@ndlaeken-olvlaken.be
END:VEVENT
END:VCALENDAR