BEGIN:VCALENDAR
VERSION:2.0
PRODID:-//ÉGLISE NOTRE DAME DE LAEKEN - ECPv6.15.20//NONSGML v1.0//EN
CALSCALE:GREGORIAN
METHOD:PUBLISH
X-ORIGINAL-URL:https://notredamedelaeken.be
X-WR-CALDESC:Évènements pour ÉGLISE NOTRE DAME DE LAEKEN
REFRESH-INTERVAL;VALUE=DURATION:PT1H
X-Robots-Tag:noindex
X-PUBLISHED-TTL:PT1H
BEGIN:VTIMEZONE
TZID:Europe/Brussels
BEGIN:DAYLIGHT
TZOFFSETFROM:+0100
TZOFFSETTO:+0200
TZNAME:CEST
DTSTART:20250330T010000
END:DAYLIGHT
BEGIN:STANDARD
TZOFFSETFROM:+0200
TZOFFSETTO:+0100
TZNAME:CET
DTSTART:20251026T010000
END:STANDARD
BEGIN:DAYLIGHT
TZOFFSETFROM:+0100
TZOFFSETTO:+0200
TZNAME:CEST
DTSTART:20260329T010000
END:DAYLIGHT
BEGIN:STANDARD
TZOFFSETFROM:+0200
TZOFFSETTO:+0100
TZNAME:CET
DTSTART:20261025T010000
END:STANDARD
BEGIN:DAYLIGHT
TZOFFSETFROM:+0100
TZOFFSETTO:+0200
TZNAME:CEST
DTSTART:20270328T010000
END:DAYLIGHT
BEGIN:STANDARD
TZOFFSETFROM:+0200
TZOFFSETTO:+0100
TZNAME:CET
DTSTART:20271031T010000
END:STANDARD
END:VTIMEZONE
BEGIN:VTIMEZONE
TZID:Europe/Paris
BEGIN:DAYLIGHT
TZOFFSETFROM:+0100
TZOFFSETTO:+0200
TZNAME:CEST
DTSTART:20250330T010000
END:DAYLIGHT
BEGIN:STANDARD
TZOFFSETFROM:+0200
TZOFFSETTO:+0100
TZNAME:CET
DTSTART:20251026T010000
END:STANDARD
BEGIN:DAYLIGHT
TZOFFSETFROM:+0100
TZOFFSETTO:+0200
TZNAME:CEST
DTSTART:20260329T010000
END:DAYLIGHT
BEGIN:STANDARD
TZOFFSETFROM:+0200
TZOFFSETTO:+0100
TZNAME:CET
DTSTART:20261025T010000
END:STANDARD
BEGIN:DAYLIGHT
TZOFFSETFROM:+0100
TZOFFSETTO:+0200
TZNAME:CEST
DTSTART:20270328T010000
END:DAYLIGHT
BEGIN:STANDARD
TZOFFSETFROM:+0200
TZOFFSETTO:+0100
TZNAME:CET
DTSTART:20271031T010000
END:STANDARD
END:VTIMEZONE
BEGIN:VEVENT
DTSTART;TZID=Europe/Brussels:20260319T173000
DTEND;TZID=Europe/Brussels:20260319T180000
DTSTAMP:20260425T005641
CREATED:20260125T153428Z
LAST-MODIFIED:20260125T153428Z
UID:6780-1773941400-1773943200@notredamedelaeken.be
SUMMARY:Messe en semaine
DESCRIPTION:
URL:https://notredamedelaeken.be/evenement/messe-en-semaine-295/
LOCATION:Église Notre Dame de Laeken\, Parvis Notre-Dame\, Région de Bruxelles-Capitale\, Belgique\, 1020\, Belgique
CATEGORIES:Messe de semaine
ATTACH;FMTTYPE=image/jpeg:https://notredamedelaeken.be/wp-content/uploads/2021/10/Notre-Dame-de-Laeken-eglise-paroissiale-a-Bruxelles-Belgique-scaled.jpg
ORGANIZER;CN="Paroisse Notre Dame de Laeken":MAILTO:secretariat.laeken@ndlaeken-olvlaken.be
END:VEVENT
BEGIN:VEVENT
DTSTART;TZID=Europe/Brussels:20260319T170000
DTEND;TZID=Europe/Brussels:20260319T173000
DTSTAMP:20260425T005641
CREATED:20260125T150739Z
LAST-MODIFIED:20260125T150739Z
UID:6708-1773939600-1773941400@notredamedelaeken.be
SUMMARY:Adoration du Saint Sacrement
DESCRIPTION:
URL:https://notredamedelaeken.be/evenement/adoration-du-saint-sacrement-461/
CATEGORIES:Adoration
ATTACH;FMTTYPE=image/jpeg:https://notredamedelaeken.be/wp-content/uploads/2024/02/IMG_1683-1.jpeg
ORGANIZER;CN="Paroisse Notre Dame de Laeken":MAILTO:secretariat.laeken@ndlaeken-olvlaken.be
END:VEVENT
BEGIN:VEVENT
DTSTART;TZID=Europe/Brussels:20260318T173000
DTEND;TZID=Europe/Brussels:20260318T180000
DTSTAMP:20260425T005641
CREATED:20260125T153345Z
LAST-MODIFIED:20260125T153345Z
UID:6778-1773855000-1773856800@notredamedelaeken.be
SUMMARY:Messe en semaine
DESCRIPTION:
URL:https://notredamedelaeken.be/evenement/messe-en-semaine-294/
LOCATION:Église Notre Dame de Laeken\, Parvis Notre-Dame\, Région de Bruxelles-Capitale\, Belgique\, 1020\, Belgique
CATEGORIES:Messe de semaine
ATTACH;FMTTYPE=image/jpeg:https://notredamedelaeken.be/wp-content/uploads/2021/10/Notre-Dame-de-Laeken-eglise-paroissiale-a-Bruxelles-Belgique-scaled.jpg
ORGANIZER;CN="Paroisse Notre Dame de Laeken":MAILTO:secretariat.laeken@ndlaeken-olvlaken.be
END:VEVENT
BEGIN:VEVENT
DTSTART;TZID=Europe/Brussels:20260318T170000
DTEND;TZID=Europe/Brussels:20260318T173000
DTSTAMP:20260425T005641
CREATED:20260125T150704Z
LAST-MODIFIED:20260125T150704Z
UID:6706-1773853200-1773855000@notredamedelaeken.be
SUMMARY:Adoration du Saint Sacrement
DESCRIPTION:
URL:https://notredamedelaeken.be/evenement/adoration-du-saint-sacrement-460/
CATEGORIES:Adoration
ATTACH;FMTTYPE=image/jpeg:https://notredamedelaeken.be/wp-content/uploads/2024/02/IMG_1683-1.jpeg
ORGANIZER;CN="Paroisse Notre Dame de Laeken":MAILTO:secretariat.laeken@ndlaeken-olvlaken.be
END:VEVENT
BEGIN:VEVENT
DTSTART;TZID=Europe/Brussels:20260317T173000
DTEND;TZID=Europe/Brussels:20260317T180000
DTSTAMP:20260425T005641
CREATED:20260125T153306Z
LAST-MODIFIED:20260125T153306Z
UID:6776-1773768600-1773770400@notredamedelaeken.be
SUMMARY:Messe en semaine
DESCRIPTION:
URL:https://notredamedelaeken.be/evenement/messe-en-semaine-293/
LOCATION:Église Notre Dame de Laeken\, Parvis Notre-Dame\, Région de Bruxelles-Capitale\, Belgique\, 1020\, Belgique
CATEGORIES:Messe de semaine
ATTACH;FMTTYPE=image/jpeg:https://notredamedelaeken.be/wp-content/uploads/2021/10/Notre-Dame-de-Laeken-eglise-paroissiale-a-Bruxelles-Belgique-scaled.jpg
ORGANIZER;CN="Paroisse Notre Dame de Laeken":MAILTO:secretariat.laeken@ndlaeken-olvlaken.be
END:VEVENT
BEGIN:VEVENT
DTSTART;TZID=Europe/Brussels:20260317T170000
DTEND;TZID=Europe/Brussels:20260317T173000
DTSTAMP:20260425T005641
CREATED:20260125T150636Z
LAST-MODIFIED:20260125T150636Z
UID:6704-1773766800-1773768600@notredamedelaeken.be
SUMMARY:Adoration du Saint Sacrement
DESCRIPTION:
URL:https://notredamedelaeken.be/evenement/adoration-du-saint-sacrement-459/
CATEGORIES:Adoration
ATTACH;FMTTYPE=image/jpeg:https://notredamedelaeken.be/wp-content/uploads/2024/02/IMG_1683-1.jpeg
ORGANIZER;CN="Paroisse Notre Dame de Laeken":MAILTO:secretariat.laeken@ndlaeken-olvlaken.be
END:VEVENT
BEGIN:VEVENT
DTSTART;TZID=Europe/Brussels:20260315T111500
DTEND;TZID=Europe/Brussels:20260315T123000
DTSTAMP:20260425T005641
CREATED:20260124T194008Z
LAST-MODIFIED:20260124T194031Z
UID:6616-1773573300-1773577800@notredamedelaeken.be
SUMMARY:Messe dominicale
DESCRIPTION:
URL:https://notredamedelaeken.be/evenement/messe-dominicale-74/
LOCATION:Église Notre Dame de Laeken\, Parvis Notre-Dame\, Région de Bruxelles-Capitale\, Belgique\, 1020\, Belgique
CATEGORIES:Messe dominicale
ATTACH;FMTTYPE=image/jpeg:https://notredamedelaeken.be/wp-content/uploads/2021/10/Notre-Dame-de-Laeken-eglise-paroissiale-a-Bruxelles-Belgique-scaled.jpg
ORGANIZER;CN="Paroisse Notre Dame de Laeken":MAILTO:secretariat.laeken@ndlaeken-olvlaken.be
END:VEVENT
BEGIN:VEVENT
DTSTART;TZID=Europe/Brussels:20260314T170000
DTEND;TZID=Europe/Brussels:20260314T180000
DTSTAMP:20260425T005641
CREATED:20260124T194746Z
LAST-MODIFIED:20260124T194746Z
UID:6636-1773507600-1773511200@notredamedelaeken.be
SUMMARY:Messe dominicale anticipée
DESCRIPTION:
URL:https://notredamedelaeken.be/evenement/messe-dominicale-anticipee-79/
LOCATION:Église Notre Dame de Laeken\, Parvis Notre-Dame\, Région de Bruxelles-Capitale\, Belgique\, 1020\, Belgique
CATEGORIES:Messe dominicale
ATTACH;FMTTYPE=image/jpeg:https://notredamedelaeken.be/wp-content/uploads/2021/10/Notre-Dame-de-Laeken-eglise-paroissiale-a-Bruxelles-Belgique-scaled.jpg
ORGANIZER;CN="Paroisse Notre Dame de Laeken":MAILTO:secretariat.laeken@ndlaeken-olvlaken.be
END:VEVENT
BEGIN:VEVENT
DTSTART;TZID=Europe/Brussels:20260313T173000
DTEND;TZID=Europe/Brussels:20260313T180000
DTSTAMP:20260425T005641
CREATED:20260125T153223Z
LAST-MODIFIED:20260125T153223Z
UID:6774-1773423000-1773424800@notredamedelaeken.be
SUMMARY:Messe en semaine
DESCRIPTION:
URL:https://notredamedelaeken.be/evenement/messe-en-semaine-292/
LOCATION:Église Notre Dame de Laeken\, Parvis Notre-Dame\, Région de Bruxelles-Capitale\, Belgique\, 1020\, Belgique
CATEGORIES:Messe de semaine
ATTACH;FMTTYPE=image/jpeg:https://notredamedelaeken.be/wp-content/uploads/2021/10/Notre-Dame-de-Laeken-eglise-paroissiale-a-Bruxelles-Belgique-scaled.jpg
ORGANIZER;CN="Paroisse Notre Dame de Laeken":MAILTO:secretariat.laeken@ndlaeken-olvlaken.be
END:VEVENT
BEGIN:VEVENT
DTSTART;TZID=Europe/Brussels:20260313T170000
DTEND;TZID=Europe/Brussels:20260313T173000
DTSTAMP:20260425T005641
CREATED:20260125T150602Z
LAST-MODIFIED:20260125T150602Z
UID:6702-1773421200-1773423000@notredamedelaeken.be
SUMMARY:Adoration du Saint Sacrement
DESCRIPTION:
URL:https://notredamedelaeken.be/evenement/adoration-du-saint-sacrement-458/
CATEGORIES:Adoration
ATTACH;FMTTYPE=image/jpeg:https://notredamedelaeken.be/wp-content/uploads/2024/02/IMG_1683-1.jpeg
ORGANIZER;CN="Paroisse Notre Dame de Laeken":MAILTO:secretariat.laeken@ndlaeken-olvlaken.be
END:VEVENT
BEGIN:VEVENT
DTSTART;TZID=Europe/Brussels:20260312T173000
DTEND;TZID=Europe/Brussels:20260312T180000
DTSTAMP:20260425T005641
CREATED:20260125T153128Z
LAST-MODIFIED:20260125T153128Z
UID:6772-1773336600-1773338400@notredamedelaeken.be
SUMMARY:Messe en semaine
DESCRIPTION:
URL:https://notredamedelaeken.be/evenement/messe-en-semaine-291/
LOCATION:Église Notre Dame de Laeken\, Parvis Notre-Dame\, Région de Bruxelles-Capitale\, Belgique\, 1020\, Belgique
CATEGORIES:Messe de semaine
ATTACH;FMTTYPE=image/jpeg:https://notredamedelaeken.be/wp-content/uploads/2021/10/Notre-Dame-de-Laeken-eglise-paroissiale-a-Bruxelles-Belgique-scaled.jpg
ORGANIZER;CN="Paroisse Notre Dame de Laeken":MAILTO:secretariat.laeken@ndlaeken-olvlaken.be
END:VEVENT
BEGIN:VEVENT
DTSTART;TZID=Europe/Brussels:20260312T170000
DTEND;TZID=Europe/Brussels:20260312T173000
DTSTAMP:20260425T005641
CREATED:20260125T150526Z
LAST-MODIFIED:20260125T150526Z
UID:6700-1773334800-1773336600@notredamedelaeken.be
SUMMARY:Adoration du Saint Sacrement
DESCRIPTION:
URL:https://notredamedelaeken.be/evenement/adoration-du-saint-sacrement-457/
CATEGORIES:Adoration
ATTACH;FMTTYPE=image/jpeg:https://notredamedelaeken.be/wp-content/uploads/2024/02/IMG_1683-1.jpeg
ORGANIZER;CN="Paroisse Notre Dame de Laeken":MAILTO:secretariat.laeken@ndlaeken-olvlaken.be
END:VEVENT
BEGIN:VEVENT
DTSTART;TZID=Europe/Brussels:20260311T173000
DTEND;TZID=Europe/Brussels:20260311T180000
DTSTAMP:20260425T005641
CREATED:20260125T153047Z
LAST-MODIFIED:20260125T153047Z
UID:6770-1773250200-1773252000@notredamedelaeken.be
SUMMARY:Messe en semaine
DESCRIPTION:
URL:https://notredamedelaeken.be/evenement/messe-en-semaine-290/
LOCATION:Église Notre Dame de Laeken\, Parvis Notre-Dame\, Région de Bruxelles-Capitale\, Belgique\, 1020\, Belgique
CATEGORIES:Messe de semaine
ATTACH;FMTTYPE=image/jpeg:https://notredamedelaeken.be/wp-content/uploads/2021/10/Notre-Dame-de-Laeken-eglise-paroissiale-a-Bruxelles-Belgique-scaled.jpg
ORGANIZER;CN="Paroisse Notre Dame de Laeken":MAILTO:secretariat.laeken@ndlaeken-olvlaken.be
END:VEVENT
BEGIN:VEVENT
DTSTART;TZID=Europe/Brussels:20260311T170000
DTEND;TZID=Europe/Brussels:20260311T173000
DTSTAMP:20260425T005641
CREATED:20260125T150456Z
LAST-MODIFIED:20260125T150456Z
UID:6698-1773248400-1773250200@notredamedelaeken.be
SUMMARY:Adoration du Saint Sacrement
DESCRIPTION:
URL:https://notredamedelaeken.be/evenement/adoration-du-saint-sacrement-456/
CATEGORIES:Adoration
ATTACH;FMTTYPE=image/jpeg:https://notredamedelaeken.be/wp-content/uploads/2024/02/IMG_1683-1.jpeg
ORGANIZER;CN="Paroisse Notre Dame de Laeken":MAILTO:secretariat.laeken@ndlaeken-olvlaken.be
END:VEVENT
BEGIN:VEVENT
DTSTART;TZID=Europe/Brussels:20260310T173000
DTEND;TZID=Europe/Brussels:20260310T180000
DTSTAMP:20260425T005641
CREATED:20260125T153008Z
LAST-MODIFIED:20260125T153008Z
UID:6768-1773163800-1773165600@notredamedelaeken.be
SUMMARY:Messe en semaine
DESCRIPTION:
URL:https://notredamedelaeken.be/evenement/messe-en-semaine-289/
LOCATION:Église Notre Dame de Laeken\, Parvis Notre-Dame\, Région de Bruxelles-Capitale\, Belgique\, 1020\, Belgique
CATEGORIES:Messe de semaine
ATTACH;FMTTYPE=image/jpeg:https://notredamedelaeken.be/wp-content/uploads/2021/10/Notre-Dame-de-Laeken-eglise-paroissiale-a-Bruxelles-Belgique-scaled.jpg
ORGANIZER;CN="Paroisse Notre Dame de Laeken":MAILTO:secretariat.laeken@ndlaeken-olvlaken.be
END:VEVENT
BEGIN:VEVENT
DTSTART;TZID=Europe/Brussels:20260310T170000
DTEND;TZID=Europe/Brussels:20260310T173000
DTSTAMP:20260425T005641
CREATED:20260125T150418Z
LAST-MODIFIED:20260125T150418Z
UID:6696-1773162000-1773163800@notredamedelaeken.be
SUMMARY:Adoration du Saint Sacrement
DESCRIPTION:
URL:https://notredamedelaeken.be/evenement/adoration-du-saint-sacrement-455/
CATEGORIES:Adoration
ATTACH;FMTTYPE=image/jpeg:https://notredamedelaeken.be/wp-content/uploads/2024/02/IMG_1683-1.jpeg
ORGANIZER;CN="Paroisse Notre Dame de Laeken":MAILTO:secretariat.laeken@ndlaeken-olvlaken.be
END:VEVENT
BEGIN:VEVENT
DTSTART;TZID=Europe/Brussels:20260308T111500
DTEND;TZID=Europe/Brussels:20260308T123000
DTSTAMP:20260425T005641
CREATED:20260125T161120Z
LAST-MODIFIED:20260125T161120Z
UID:6803-1772968500-1772973000@notredamedelaeken.be
SUMMARY:Messe dominicale
DESCRIPTION:
URL:https://notredamedelaeken.be/evenement/messe-dominicale-77/
LOCATION:Église Notre Dame de Laeken\, Parvis Notre-Dame\, Région de Bruxelles-Capitale\, Belgique\, 1020\, Belgique
CATEGORIES:Messe dominicale
ATTACH;FMTTYPE=image/jpeg:https://notredamedelaeken.be/wp-content/uploads/2021/10/Notre-Dame-de-Laeken-eglise-paroissiale-a-Bruxelles-Belgique-scaled.jpg
ORGANIZER;CN="Paroisse Notre Dame de Laeken":MAILTO:secretariat.laeken@ndlaeken-olvlaken.be
END:VEVENT
BEGIN:VEVENT
DTSTART;TZID=Europe/Brussels:20260307T170000
DTEND;TZID=Europe/Brussels:20260307T180000
DTSTAMP:20260425T005641
CREATED:20260124T194715Z
LAST-MODIFIED:20260124T194715Z
UID:6634-1772902800-1772906400@notredamedelaeken.be
SUMMARY:Messe dominicale anticipée
DESCRIPTION:
URL:https://notredamedelaeken.be/evenement/messe-dominicale-anticipee-78/
LOCATION:Église Notre Dame de Laeken\, Parvis Notre-Dame\, Région de Bruxelles-Capitale\, Belgique\, 1020\, Belgique
CATEGORIES:Messe dominicale
ATTACH;FMTTYPE=image/jpeg:https://notredamedelaeken.be/wp-content/uploads/2021/10/Notre-Dame-de-Laeken-eglise-paroissiale-a-Bruxelles-Belgique-scaled.jpg
ORGANIZER;CN="Paroisse Notre Dame de Laeken":MAILTO:secretariat.laeken@ndlaeken-olvlaken.be
END:VEVENT
BEGIN:VEVENT
DTSTART;TZID=Europe/Brussels:20260306T173000
DTEND;TZID=Europe/Brussels:20260306T180000
DTSTAMP:20260425T005641
CREATED:20260125T152918Z
LAST-MODIFIED:20260125T152918Z
UID:6766-1772818200-1772820000@notredamedelaeken.be
SUMMARY:Messe en semaine
DESCRIPTION:
URL:https://notredamedelaeken.be/evenement/messe-en-semaine-288/
LOCATION:Église Notre Dame de Laeken\, Parvis Notre-Dame\, Région de Bruxelles-Capitale\, Belgique\, 1020\, Belgique
CATEGORIES:Messe de semaine
ATTACH;FMTTYPE=image/jpeg:https://notredamedelaeken.be/wp-content/uploads/2021/10/Notre-Dame-de-Laeken-eglise-paroissiale-a-Bruxelles-Belgique-scaled.jpg
ORGANIZER;CN="Paroisse Notre Dame de Laeken":MAILTO:secretariat.laeken@ndlaeken-olvlaken.be
END:VEVENT
BEGIN:VEVENT
DTSTART;TZID=Europe/Brussels:20260306T170000
DTEND;TZID=Europe/Brussels:20260306T173000
DTSTAMP:20260425T005641
CREATED:20260125T150345Z
LAST-MODIFIED:20260125T150345Z
UID:6694-1772816400-1772818200@notredamedelaeken.be
SUMMARY:Adoration du Saint Sacrement
DESCRIPTION:
URL:https://notredamedelaeken.be/evenement/adoration-du-saint-sacrement-454/
CATEGORIES:Adoration
ATTACH;FMTTYPE=image/jpeg:https://notredamedelaeken.be/wp-content/uploads/2024/02/IMG_1683-1.jpeg
ORGANIZER;CN="Paroisse Notre Dame de Laeken":MAILTO:secretariat.laeken@ndlaeken-olvlaken.be
END:VEVENT
BEGIN:VEVENT
DTSTART;TZID=Europe/Brussels:20260305T173000
DTEND;TZID=Europe/Brussels:20260305T180000
DTSTAMP:20260425T005641
CREATED:20260125T152838Z
LAST-MODIFIED:20260125T152838Z
UID:6764-1772731800-1772733600@notredamedelaeken.be
SUMMARY:Messe en semaine
DESCRIPTION:
URL:https://notredamedelaeken.be/evenement/messe-en-semaine-287/
LOCATION:Église Notre Dame de Laeken\, Parvis Notre-Dame\, Région de Bruxelles-Capitale\, Belgique\, 1020\, Belgique
CATEGORIES:Messe de semaine
ATTACH;FMTTYPE=image/jpeg:https://notredamedelaeken.be/wp-content/uploads/2021/10/Notre-Dame-de-Laeken-eglise-paroissiale-a-Bruxelles-Belgique-scaled.jpg
ORGANIZER;CN="Paroisse Notre Dame de Laeken":MAILTO:secretariat.laeken@ndlaeken-olvlaken.be
END:VEVENT
BEGIN:VEVENT
DTSTART;TZID=Europe/Brussels:20260305T170000
DTEND;TZID=Europe/Brussels:20260305T173000
DTSTAMP:20260425T005641
CREATED:20260125T150246Z
LAST-MODIFIED:20260125T150246Z
UID:6692-1772730000-1772731800@notredamedelaeken.be
SUMMARY:Adoration du Saint Sacrement
DESCRIPTION:
URL:https://notredamedelaeken.be/evenement/adoration-du-saint-sacrement-445/
CATEGORIES:Adoration
ATTACH;FMTTYPE=image/jpeg:https://notredamedelaeken.be/wp-content/uploads/2024/02/IMG_1683-1.jpeg
ORGANIZER;CN="Paroisse Notre Dame de Laeken":MAILTO:secretariat.laeken@ndlaeken-olvlaken.be
END:VEVENT
BEGIN:VEVENT
DTSTART;TZID=Europe/Brussels:20260304T173000
DTEND;TZID=Europe/Brussels:20260304T180000
DTSTAMP:20260425T005641
CREATED:20260125T152758Z
LAST-MODIFIED:20260125T152758Z
UID:6762-1772645400-1772647200@notredamedelaeken.be
SUMMARY:Messe en semaine
DESCRIPTION:
URL:https://notredamedelaeken.be/evenement/messe-en-semaine-286/
LOCATION:Église Notre Dame de Laeken\, Parvis Notre-Dame\, Région de Bruxelles-Capitale\, Belgique\, 1020\, Belgique
CATEGORIES:Messe de semaine
ATTACH;FMTTYPE=image/jpeg:https://notredamedelaeken.be/wp-content/uploads/2021/10/Notre-Dame-de-Laeken-eglise-paroissiale-a-Bruxelles-Belgique-scaled.jpg
ORGANIZER;CN="Paroisse Notre Dame de Laeken":MAILTO:secretariat.laeken@ndlaeken-olvlaken.be
END:VEVENT
BEGIN:VEVENT
DTSTART;TZID=Europe/Brussels:20260304T170000
DTEND;TZID=Europe/Brussels:20260304T173000
DTSTAMP:20260425T005641
CREATED:20260125T150059Z
LAST-MODIFIED:20260125T150059Z
UID:6690-1772643600-1772645400@notredamedelaeken.be
SUMMARY:Adoration du Saint Sacrement
DESCRIPTION:
URL:https://notredamedelaeken.be/evenement/adoration-du-saint-sacrement-453/
CATEGORIES:Adoration
ATTACH;FMTTYPE=image/jpeg:https://notredamedelaeken.be/wp-content/uploads/2024/02/IMG_1683-1.jpeg
ORGANIZER;CN="Paroisse Notre Dame de Laeken":MAILTO:secretariat.laeken@ndlaeken-olvlaken.be
END:VEVENT
BEGIN:VEVENT
DTSTART;TZID=Europe/Paris:20260303T190000
DTEND;TZID=Europe/Paris:20260303T210000
DTSTAMP:20260425T005641
CREATED:20260125T162654Z
LAST-MODIFIED:20260125T162654Z
UID:6811-1772564400-1772571600@notredamedelaeken.be
SUMMARY:Groupe Biblique
DESCRIPTION:Le groupe Biblique poursuit ses rencontres mensuelles ce mardi 4 juin 2024 à 19h à la cure. \nIl est conseillé d’amener sa bible et de quoi noter (papier\, cahier\, bic). \nMerci d’annoncer\, si possible\, votre venue à Monsieur Yves DELMOTTE lors des messes à Notre Dame de Laeken où dans une autre paroisse de l’unité pastorale Cardijn ou via le site paroissial via le formulaire de Contact \nTous les paroissiens sont les bienvenus ! \n 
URL:https://notredamedelaeken.be/evenement/groupe-biblique/
LOCATION:Cure Notre Dame de Laken\, Square Cardijn 6\, Laeken\, 1020\, Belgique
CATEGORIES:Groupe Biblique
ATTACH;FMTTYPE=image/jpeg:https://notredamedelaeken.be/wp-content/uploads/2021/08/groupe-biblique.jpg
ORGANIZER;CN="Paroisse Notre Dame de Laeken":MAILTO:secretariat.laeken@ndlaeken-olvlaken.be
END:VEVENT
BEGIN:VEVENT
DTSTART;TZID=Europe/Brussels:20260303T173000
DTEND;TZID=Europe/Brussels:20260303T180000
DTSTAMP:20260425T005641
CREATED:20260125T152706Z
LAST-MODIFIED:20260125T152706Z
UID:6760-1772559000-1772560800@notredamedelaeken.be
SUMMARY:Messe en semaine
DESCRIPTION:
URL:https://notredamedelaeken.be/evenement/messe-en-semaine-285/
LOCATION:Église Notre Dame de Laeken\, Parvis Notre-Dame\, Région de Bruxelles-Capitale\, Belgique\, 1020\, Belgique
CATEGORIES:Messe de semaine
ATTACH;FMTTYPE=image/jpeg:https://notredamedelaeken.be/wp-content/uploads/2021/10/Notre-Dame-de-Laeken-eglise-paroissiale-a-Bruxelles-Belgique-scaled.jpg
ORGANIZER;CN="Paroisse Notre Dame de Laeken":MAILTO:secretariat.laeken@ndlaeken-olvlaken.be
END:VEVENT
BEGIN:VEVENT
DTSTART;TZID=Europe/Brussels:20260303T170000
DTEND;TZID=Europe/Brussels:20260303T173000
DTSTAMP:20260425T005641
CREATED:20260125T150026Z
LAST-MODIFIED:20260125T150026Z
UID:6688-1772557200-1772559000@notredamedelaeken.be
SUMMARY:Adoration du Saint Sacrement
DESCRIPTION:
URL:https://notredamedelaeken.be/evenement/adoration-du-saint-sacrement-452/
CATEGORIES:Adoration
ATTACH;FMTTYPE=image/jpeg:https://notredamedelaeken.be/wp-content/uploads/2024/02/IMG_1683-1.jpeg
ORGANIZER;CN="Paroisse Notre Dame de Laeken":MAILTO:secretariat.laeken@ndlaeken-olvlaken.be
END:VEVENT
BEGIN:VEVENT
DTSTART;TZID=Europe/Brussels:20260301T111500
DTEND;TZID=Europe/Brussels:20260301T123000
DTSTAMP:20260425T005641
CREATED:20260124T193928Z
LAST-MODIFIED:20260124T193928Z
UID:6614-1772363700-1772368200@notredamedelaeken.be
SUMMARY:Messe dominicale
DESCRIPTION:
URL:https://notredamedelaeken.be/evenement/messe-dominicale-73/
LOCATION:Église Notre Dame de Laeken\, Parvis Notre-Dame\, Région de Bruxelles-Capitale\, Belgique\, 1020\, Belgique
CATEGORIES:Messe dominicale
ATTACH;FMTTYPE=image/jpeg:https://notredamedelaeken.be/wp-content/uploads/2021/10/Notre-Dame-de-Laeken-eglise-paroissiale-a-Bruxelles-Belgique-scaled.jpg
ORGANIZER;CN="Paroisse Notre Dame de Laeken":MAILTO:secretariat.laeken@ndlaeken-olvlaken.be
END:VEVENT
BEGIN:VEVENT
DTSTART;TZID=Europe/Brussels:20260228T170000
DTEND;TZID=Europe/Brussels:20260228T180000
DTSTAMP:20260425T005641
CREATED:20260124T194632Z
LAST-MODIFIED:20260124T194632Z
UID:6632-1772298000-1772301600@notredamedelaeken.be
SUMMARY:Messe dominicale anticipée
DESCRIPTION:
URL:https://notredamedelaeken.be/evenement/messe-dominicale-anticipee-77/
LOCATION:Église Notre Dame de Laeken\, Parvis Notre-Dame\, Région de Bruxelles-Capitale\, Belgique\, 1020\, Belgique
CATEGORIES:Messe dominicale
ATTACH;FMTTYPE=image/jpeg:https://notredamedelaeken.be/wp-content/uploads/2021/10/Notre-Dame-de-Laeken-eglise-paroissiale-a-Bruxelles-Belgique-scaled.jpg
ORGANIZER;CN="Paroisse Notre Dame de Laeken":MAILTO:secretariat.laeken@ndlaeken-olvlaken.be
END:VEVENT
BEGIN:VEVENT
DTSTART;TZID=Europe/Brussels:20260227T173000
DTEND;TZID=Europe/Brussels:20260227T180000
DTSTAMP:20260425T005641
CREATED:20260125T152620Z
LAST-MODIFIED:20260125T152620Z
UID:6758-1772213400-1772215200@notredamedelaeken.be
SUMMARY:Messe en semaine
DESCRIPTION:
URL:https://notredamedelaeken.be/evenement/messe-en-semaine-284/
LOCATION:Église Notre Dame de Laeken\, Parvis Notre-Dame\, Région de Bruxelles-Capitale\, Belgique\, 1020\, Belgique
CATEGORIES:Messe de semaine
ATTACH;FMTTYPE=image/jpeg:https://notredamedelaeken.be/wp-content/uploads/2021/10/Notre-Dame-de-Laeken-eglise-paroissiale-a-Bruxelles-Belgique-scaled.jpg
ORGANIZER;CN="Paroisse Notre Dame de Laeken":MAILTO:secretariat.laeken@ndlaeken-olvlaken.be
END:VEVENT
END:VCALENDAR