BEGIN:VCALENDAR
VERSION:2.0
PRODID:-//ÉGLISE NOTRE DAME DE LAEKEN - ECPv6.15.17.1//NONSGML v1.0//EN
CALSCALE:GREGORIAN
METHOD:PUBLISH
X-ORIGINAL-URL:https://notredamedelaeken.be
X-WR-CALDESC:Évènements pour ÉGLISE NOTRE DAME DE LAEKEN
REFRESH-INTERVAL;VALUE=DURATION:PT1H
X-Robots-Tag:noindex
X-PUBLISHED-TTL:PT1H
BEGIN:VTIMEZONE
TZID:Europe/Brussels
BEGIN:DAYLIGHT
TZOFFSETFROM:+0100
TZOFFSETTO:+0200
TZNAME:CEST
DTSTART:20240331T010000
END:DAYLIGHT
BEGIN:STANDARD
TZOFFSETFROM:+0200
TZOFFSETTO:+0100
TZNAME:CET
DTSTART:20241027T010000
END:STANDARD
BEGIN:DAYLIGHT
TZOFFSETFROM:+0100
TZOFFSETTO:+0200
TZNAME:CEST
DTSTART:20250330T010000
END:DAYLIGHT
BEGIN:STANDARD
TZOFFSETFROM:+0200
TZOFFSETTO:+0100
TZNAME:CET
DTSTART:20251026T010000
END:STANDARD
BEGIN:DAYLIGHT
TZOFFSETFROM:+0100
TZOFFSETTO:+0200
TZNAME:CEST
DTSTART:20260329T010000
END:DAYLIGHT
BEGIN:STANDARD
TZOFFSETFROM:+0200
TZOFFSETTO:+0100
TZNAME:CET
DTSTART:20261025T010000
END:STANDARD
END:VTIMEZONE
BEGIN:VEVENT
DTSTART;TZID=Europe/Brussels:20250503T170000
DTEND;TZID=Europe/Brussels:20250503T180000
DTSTAMP:20260422T180651
CREATED:20241217T171645Z
LAST-MODIFIED:20241217T171645Z
UID:5537-1746291600-1746295200@notredamedelaeken.be
SUMMARY:Messe dominicale anticipée
DESCRIPTION:
URL:https://notredamedelaeken.be/evenement/messe-dominicale-anticipee-37/
LOCATION:Église Notre Dame de Laeken\, Parvis Notre-Dame\, Région de Bruxelles-Capitale\, Belgique\, 1020\, Belgique
CATEGORIES:Messe dominicale
ATTACH;FMTTYPE=image/jpeg:https://notredamedelaeken.be/wp-content/uploads/2021/10/Notre-Dame-de-Laeken-eglise-paroissiale-a-Bruxelles-Belgique-scaled.jpg
ORGANIZER;CN="Paroisse Notre Dame de Laeken":MAILTO:secretariat.laeken@ndlaeken-olvlaken.be
END:VEVENT
BEGIN:VEVENT
DTSTART;TZID=Europe/Brussels:20250504T111500
DTEND;TZID=Europe/Brussels:20250504T123000
DTSTAMP:20260422T180651
CREATED:20241217T180741Z
LAST-MODIFIED:20241217T180741Z
UID:5596-1746357300-1746361800@notredamedelaeken.be
SUMMARY:Messe dominicale
DESCRIPTION:
URL:https://notredamedelaeken.be/evenement/messe-dominicale-36/
LOCATION:Église Notre Dame de Laeken\, Parvis Notre-Dame\, Région de Bruxelles-Capitale\, Belgique\, 1020\, Belgique
CATEGORIES:Messe dominicale
ATTACH;FMTTYPE=image/jpeg:https://notredamedelaeken.be/wp-content/uploads/2021/10/Notre-Dame-de-Laeken-eglise-paroissiale-a-Bruxelles-Belgique-scaled.jpg
ORGANIZER;CN="Paroisse Notre Dame de Laeken":MAILTO:secretariat.laeken@ndlaeken-olvlaken.be
END:VEVENT
BEGIN:VEVENT
DTSTART;TZID=Europe/Brussels:20250510T170000
DTEND;TZID=Europe/Brussels:20250510T180000
DTSTAMP:20260422T180651
CREATED:20241217T171736Z
LAST-MODIFIED:20241217T171736Z
UID:5539-1746896400-1746900000@notredamedelaeken.be
SUMMARY:Messe dominicale anticipée
DESCRIPTION:
URL:https://notredamedelaeken.be/evenement/messe-dominicale-anticipee-38/
LOCATION:Église Notre Dame de Laeken\, Parvis Notre-Dame\, Région de Bruxelles-Capitale\, Belgique\, 1020\, Belgique
CATEGORIES:Messe dominicale
ATTACH;FMTTYPE=image/jpeg:https://notredamedelaeken.be/wp-content/uploads/2021/10/Notre-Dame-de-Laeken-eglise-paroissiale-a-Bruxelles-Belgique-scaled.jpg
ORGANIZER;CN="Paroisse Notre Dame de Laeken":MAILTO:secretariat.laeken@ndlaeken-olvlaken.be
END:VEVENT
BEGIN:VEVENT
DTSTART;TZID=Europe/Brussels:20250511T111500
DTEND;TZID=Europe/Brussels:20250511T123000
DTSTAMP:20260422T180651
CREATED:20241217T180838Z
LAST-MODIFIED:20241217T180838Z
UID:5598-1746962100-1746966600@notredamedelaeken.be
SUMMARY:Messe dominicale
DESCRIPTION:
URL:https://notredamedelaeken.be/evenement/messe-dominicale-37/
LOCATION:Église Notre Dame de Laeken\, Parvis Notre-Dame\, Région de Bruxelles-Capitale\, Belgique\, 1020\, Belgique
CATEGORIES:Messe dominicale
ATTACH;FMTTYPE=image/jpeg:https://notredamedelaeken.be/wp-content/uploads/2021/10/Notre-Dame-de-Laeken-eglise-paroissiale-a-Bruxelles-Belgique-scaled.jpg
ORGANIZER;CN="Paroisse Notre Dame de Laeken":MAILTO:secretariat.laeken@ndlaeken-olvlaken.be
END:VEVENT
BEGIN:VEVENT
DTSTART;TZID=Europe/Brussels:20250517T170000
DTEND;TZID=Europe/Brussels:20250517T180000
DTSTAMP:20260422T180651
CREATED:20241217T171832Z
LAST-MODIFIED:20241217T171832Z
UID:5541-1747501200-1747504800@notredamedelaeken.be
SUMMARY:Messe dominicale anticipée
DESCRIPTION:
URL:https://notredamedelaeken.be/evenement/messe-dominicale-anticipee-39/
LOCATION:Église Notre Dame de Laeken\, Parvis Notre-Dame\, Région de Bruxelles-Capitale\, Belgique\, 1020\, Belgique
CATEGORIES:Messe dominicale
ATTACH;FMTTYPE=image/jpeg:https://notredamedelaeken.be/wp-content/uploads/2021/10/Notre-Dame-de-Laeken-eglise-paroissiale-a-Bruxelles-Belgique-scaled.jpg
ORGANIZER;CN="Paroisse Notre Dame de Laeken":MAILTO:secretariat.laeken@ndlaeken-olvlaken.be
END:VEVENT
BEGIN:VEVENT
DTSTART;TZID=Europe/Brussels:20250518T111500
DTEND;TZID=Europe/Brussels:20250518T123000
DTSTAMP:20260422T180651
CREATED:20241217T180933Z
LAST-MODIFIED:20241217T180933Z
UID:5600-1747566900-1747571400@notredamedelaeken.be
SUMMARY:Messe dominicale
DESCRIPTION:
URL:https://notredamedelaeken.be/evenement/messe-dominicale-38/
LOCATION:Église Notre Dame de Laeken\, Parvis Notre-Dame\, Région de Bruxelles-Capitale\, Belgique\, 1020\, Belgique
CATEGORIES:Messe dominicale
ATTACH;FMTTYPE=image/jpeg:https://notredamedelaeken.be/wp-content/uploads/2021/10/Notre-Dame-de-Laeken-eglise-paroissiale-a-Bruxelles-Belgique-scaled.jpg
ORGANIZER;CN="Paroisse Notre Dame de Laeken":MAILTO:secretariat.laeken@ndlaeken-olvlaken.be
END:VEVENT
BEGIN:VEVENT
DTSTART;TZID=Europe/Brussels:20250524T170000
DTEND;TZID=Europe/Brussels:20250524T180000
DTSTAMP:20260422T180651
CREATED:20241217T171921Z
LAST-MODIFIED:20241217T171921Z
UID:5543-1748106000-1748109600@notredamedelaeken.be
SUMMARY:Messe dominicale anticipée
DESCRIPTION:
URL:https://notredamedelaeken.be/evenement/messe-dominicale-anticipee-40/
LOCATION:Église Notre Dame de Laeken\, Parvis Notre-Dame\, Région de Bruxelles-Capitale\, Belgique\, 1020\, Belgique
CATEGORIES:Messe dominicale
ATTACH;FMTTYPE=image/jpeg:https://notredamedelaeken.be/wp-content/uploads/2021/10/Notre-Dame-de-Laeken-eglise-paroissiale-a-Bruxelles-Belgique-scaled.jpg
ORGANIZER;CN="Paroisse Notre Dame de Laeken":MAILTO:secretariat.laeken@ndlaeken-olvlaken.be
END:VEVENT
BEGIN:VEVENT
DTSTART;TZID=Europe/Brussels:20250525T111500
DTEND;TZID=Europe/Brussels:20250525T123000
DTSTAMP:20260422T180651
CREATED:20241217T181030Z
LAST-MODIFIED:20241217T181030Z
UID:5602-1748171700-1748176200@notredamedelaeken.be
SUMMARY:Messe dominicale
DESCRIPTION:
URL:https://notredamedelaeken.be/evenement/messe-dominicale-39/
LOCATION:Église Notre Dame de Laeken\, Parvis Notre-Dame\, Région de Bruxelles-Capitale\, Belgique\, 1020\, Belgique
CATEGORIES:Messe dominicale
ATTACH;FMTTYPE=image/jpeg:https://notredamedelaeken.be/wp-content/uploads/2021/10/Notre-Dame-de-Laeken-eglise-paroissiale-a-Bruxelles-Belgique-scaled.jpg
ORGANIZER;CN="Paroisse Notre Dame de Laeken":MAILTO:secretariat.laeken@ndlaeken-olvlaken.be
END:VEVENT
BEGIN:VEVENT
DTSTART;TZID=Europe/Brussels:20250531T170000
DTEND;TZID=Europe/Brussels:20250531T180000
DTSTAMP:20260422T180651
CREATED:20241217T172010Z
LAST-MODIFIED:20241217T172010Z
UID:5545-1748710800-1748714400@notredamedelaeken.be
SUMMARY:Messe dominicale anticipée
DESCRIPTION:
URL:https://notredamedelaeken.be/evenement/messe-dominicale-anticipee-41/
LOCATION:Église Notre Dame de Laeken\, Parvis Notre-Dame\, Région de Bruxelles-Capitale\, Belgique\, 1020\, Belgique
CATEGORIES:Messe dominicale
ATTACH;FMTTYPE=image/jpeg:https://notredamedelaeken.be/wp-content/uploads/2021/10/Notre-Dame-de-Laeken-eglise-paroissiale-a-Bruxelles-Belgique-scaled.jpg
ORGANIZER;CN="Paroisse Notre Dame de Laeken":MAILTO:secretariat.laeken@ndlaeken-olvlaken.be
END:VEVENT
END:VCALENDAR