BEGIN:VCALENDAR
VERSION:2.0
PRODID:-//ÉGLISE NOTRE DAME DE LAEKEN - ECPv6.15.17.1//NONSGML v1.0//EN
CALSCALE:GREGORIAN
METHOD:PUBLISH
X-ORIGINAL-URL:https://notredamedelaeken.be
X-WR-CALDESC:Évènements pour ÉGLISE NOTRE DAME DE LAEKEN
REFRESH-INTERVAL;VALUE=DURATION:PT1H
X-Robots-Tag:noindex
X-PUBLISHED-TTL:PT1H
BEGIN:VTIMEZONE
TZID:Europe/Brussels
BEGIN:DAYLIGHT
TZOFFSETFROM:+0100
TZOFFSETTO:+0200
TZNAME:CEST
DTSTART:20240331T010000
END:DAYLIGHT
BEGIN:STANDARD
TZOFFSETFROM:+0200
TZOFFSETTO:+0100
TZNAME:CET
DTSTART:20241027T010000
END:STANDARD
BEGIN:DAYLIGHT
TZOFFSETFROM:+0100
TZOFFSETTO:+0200
TZNAME:CEST
DTSTART:20250330T010000
END:DAYLIGHT
BEGIN:STANDARD
TZOFFSETFROM:+0200
TZOFFSETTO:+0100
TZNAME:CET
DTSTART:20251026T010000
END:STANDARD
BEGIN:DAYLIGHT
TZOFFSETFROM:+0100
TZOFFSETTO:+0200
TZNAME:CEST
DTSTART:20260329T010000
END:DAYLIGHT
BEGIN:STANDARD
TZOFFSETFROM:+0200
TZOFFSETTO:+0100
TZNAME:CET
DTSTART:20261025T010000
END:STANDARD
END:VTIMEZONE
BEGIN:VEVENT
DTSTART;TZID=Europe/Brussels:20250601T111500
DTEND;TZID=Europe/Brussels:20250601T123000
DTSTAMP:20260422T164100
CREATED:20241217T181703Z
LAST-MODIFIED:20241217T181703Z
UID:5611-1748776500-1748781000@notredamedelaeken.be
SUMMARY:Messe dominicale
DESCRIPTION:
URL:https://notredamedelaeken.be/evenement/messe-dominicale-41/
LOCATION:Église Notre Dame de Laeken\, Parvis Notre-Dame\, Région de Bruxelles-Capitale\, Belgique\, 1020\, Belgique
CATEGORIES:Messe dominicale
ATTACH;FMTTYPE=image/jpeg:https://notredamedelaeken.be/wp-content/uploads/2021/10/Notre-Dame-de-Laeken-eglise-paroissiale-a-Bruxelles-Belgique-scaled.jpg
ORGANIZER;CN="Paroisse Notre Dame de Laeken":MAILTO:secretariat.laeken@ndlaeken-olvlaken.be
END:VEVENT
BEGIN:VEVENT
DTSTART;TZID=Europe/Brussels:20250607T170000
DTEND;TZID=Europe/Brussels:20250607T180000
DTSTAMP:20260422T164100
CREATED:20241217T172121Z
LAST-MODIFIED:20241217T172121Z
UID:5547-1749315600-1749319200@notredamedelaeken.be
SUMMARY:Messe dominicale anticipée
DESCRIPTION:
URL:https://notredamedelaeken.be/evenement/messe-dominicale-anticipee-42/
LOCATION:Église Notre Dame de Laeken\, Parvis Notre-Dame\, Région de Bruxelles-Capitale\, Belgique\, 1020\, Belgique
CATEGORIES:Messe dominicale
ATTACH;FMTTYPE=image/jpeg:https://notredamedelaeken.be/wp-content/uploads/2021/10/Notre-Dame-de-Laeken-eglise-paroissiale-a-Bruxelles-Belgique-scaled.jpg
ORGANIZER;CN="Paroisse Notre Dame de Laeken":MAILTO:secretariat.laeken@ndlaeken-olvlaken.be
END:VEVENT
BEGIN:VEVENT
DTSTART;TZID=Europe/Brussels:20250608T111500
DTEND;TZID=Europe/Brussels:20250608T121500
DTSTAMP:20260422T164100
CREATED:20241217T181345Z
LAST-MODIFIED:20241217T181549Z
UID:5608-1749381300-1749384900@notredamedelaeken.be
SUMMARY:Messe dominicale
DESCRIPTION:
URL:https://notredamedelaeken.be/evenement/messe-dominicale-anticipee-43/
LOCATION:Église Notre Dame de Laeken\, Parvis Notre-Dame\, Région de Bruxelles-Capitale\, Belgique\, 1020\, Belgique
CATEGORIES:Messe dominicale
ATTACH;FMTTYPE=image/jpeg:https://notredamedelaeken.be/wp-content/uploads/2021/10/Notre-Dame-de-Laeken-eglise-paroissiale-a-Bruxelles-Belgique-scaled.jpg
ORGANIZER;CN="Paroisse Notre Dame de Laeken":MAILTO:secretariat.laeken@ndlaeken-olvlaken.be
END:VEVENT
BEGIN:VEVENT
DTSTART;TZID=Europe/Brussels:20250614T170000
DTEND;TZID=Europe/Brussels:20250614T180000
DTSTAMP:20260422T164100
CREATED:20241217T172810Z
LAST-MODIFIED:20241217T174202Z
UID:5559-1749920400-1749924000@notredamedelaeken.be
SUMMARY:Messe dominicale anticipée
DESCRIPTION:
URL:https://notredamedelaeken.be/evenement/messe-dominicale-anticipee-46/
LOCATION:Église Notre Dame de Laeken\, Parvis Notre-Dame\, Région de Bruxelles-Capitale\, Belgique\, 1020\, Belgique
CATEGORIES:Messe dominicale
ATTACH;FMTTYPE=image/jpeg:https://notredamedelaeken.be/wp-content/uploads/2021/10/Notre-Dame-de-Laeken-eglise-paroissiale-a-Bruxelles-Belgique-scaled.jpg
ORGANIZER;CN="Paroisse Notre Dame de Laeken":MAILTO:secretariat.laeken@ndlaeken-olvlaken.be
END:VEVENT
BEGIN:VEVENT
DTSTART;TZID=Europe/Brussels:20250615T111500
DTEND;TZID=Europe/Brussels:20250615T121500
DTSTAMP:20260422T164100
CREATED:20241217T174116Z
LAST-MODIFIED:20241217T174116Z
UID:5564-1749986100-1749989700@notredamedelaeken.be
SUMMARY:Messe dominicale
DESCRIPTION:
URL:https://notredamedelaeken.be/evenement/messe-dominicale-20/
LOCATION:Église Notre Dame de Laeken\, Parvis Notre-Dame\, Région de Bruxelles-Capitale\, Belgique\, 1020\, Belgique
CATEGORIES:Messe dominicale
ATTACH;FMTTYPE=image/jpeg:https://notredamedelaeken.be/wp-content/uploads/2021/10/Notre-Dame-de-Laeken-eglise-paroissiale-a-Bruxelles-Belgique-scaled.jpg
ORGANIZER;CN="Paroisse Notre Dame de Laeken":MAILTO:secretariat.laeken@ndlaeken-olvlaken.be
END:VEVENT
BEGIN:VEVENT
DTSTART;TZID=Europe/Brussels:20250621T170000
DTEND;TZID=Europe/Brussels:20250621T180000
DTSTAMP:20260422T164100
CREATED:20241217T172256Z
LAST-MODIFIED:20241217T172256Z
UID:5551-1750525200-1750528800@notredamedelaeken.be
SUMMARY:Messe dominicale anticipée
DESCRIPTION:
URL:https://notredamedelaeken.be/evenement/messe-dominicale-anticipee-44/
LOCATION:Église Notre Dame de Laeken\, Parvis Notre-Dame\, Région de Bruxelles-Capitale\, Belgique\, 1020\, Belgique
CATEGORIES:Messe dominicale
ATTACH;FMTTYPE=image/jpeg:https://notredamedelaeken.be/wp-content/uploads/2021/10/Notre-Dame-de-Laeken-eglise-paroissiale-a-Bruxelles-Belgique-scaled.jpg
ORGANIZER;CN="Paroisse Notre Dame de Laeken":MAILTO:secretariat.laeken@ndlaeken-olvlaken.be
END:VEVENT
BEGIN:VEVENT
DTSTART;TZID=Europe/Brussels:20250622T111500
DTEND;TZID=Europe/Brussels:20250622T123000
DTSTAMP:20260422T164100
CREATED:20241217T172727Z
LAST-MODIFIED:20241217T172727Z
UID:5557-1750590900-1750595400@notredamedelaeken.be
SUMMARY:Messe dominicale
DESCRIPTION:
URL:https://notredamedelaeken.be/evenement/messe-dominicale-19/
LOCATION:Église Notre Dame de Laeken\, Parvis Notre-Dame\, Région de Bruxelles-Capitale\, Belgique\, 1020\, Belgique
CATEGORIES:Messe dominicale
ATTACH;FMTTYPE=image/jpeg:https://notredamedelaeken.be/wp-content/uploads/2021/10/Notre-Dame-de-Laeken-eglise-paroissiale-a-Bruxelles-Belgique-scaled.jpg
ORGANIZER;CN="Paroisse Notre Dame de Laeken":MAILTO:secretariat.laeken@ndlaeken-olvlaken.be
END:VEVENT
BEGIN:VEVENT
DTSTART;TZID=Europe/Brussels:20250628T170000
DTEND;TZID=Europe/Brussels:20250628T180000
DTSTAMP:20260422T164100
CREATED:20241217T172344Z
LAST-MODIFIED:20241217T172344Z
UID:5553-1751130000-1751133600@notredamedelaeken.be
SUMMARY:Messe dominicale anticipée
DESCRIPTION:
URL:https://notredamedelaeken.be/evenement/messe-dominicale-anticipee-45/
LOCATION:Église Notre Dame de Laeken\, Parvis Notre-Dame\, Région de Bruxelles-Capitale\, Belgique\, 1020\, Belgique
CATEGORIES:Messe dominicale
ATTACH;FMTTYPE=image/jpeg:https://notredamedelaeken.be/wp-content/uploads/2021/10/Notre-Dame-de-Laeken-eglise-paroissiale-a-Bruxelles-Belgique-scaled.jpg
ORGANIZER;CN="Paroisse Notre Dame de Laeken":MAILTO:secretariat.laeken@ndlaeken-olvlaken.be
END:VEVENT
BEGIN:VEVENT
DTSTART;TZID=Europe/Brussels:20250629T111500
DTEND;TZID=Europe/Brussels:20250629T123000
DTSTAMP:20260422T164100
CREATED:20241217T172652Z
LAST-MODIFIED:20241217T172652Z
UID:5555-1751195700-1751200200@notredamedelaeken.be
SUMMARY:Messe dominicale
DESCRIPTION:
URL:https://notredamedelaeken.be/evenement/messe-dominicale-18/
LOCATION:Église Notre Dame de Laeken\, Parvis Notre-Dame\, Région de Bruxelles-Capitale\, Belgique\, 1020\, Belgique
CATEGORIES:Messe dominicale
ATTACH;FMTTYPE=image/jpeg:https://notredamedelaeken.be/wp-content/uploads/2021/10/Notre-Dame-de-Laeken-eglise-paroissiale-a-Bruxelles-Belgique-scaled.jpg
ORGANIZER;CN="Paroisse Notre Dame de Laeken":MAILTO:secretariat.laeken@ndlaeken-olvlaken.be
END:VEVENT
END:VCALENDAR